BEGIN:VCALENDAR
VERSION:2.0
PRODID:-//Cross Park Church - ECPv6.15.20//NONSGML v1.0//EN
CALSCALE:GREGORIAN
METHOD:PUBLISH
X-ORIGINAL-URL:https://www.crossparkchurch.org
X-WR-CALDESC:Events for Cross Park Church
REFRESH-INTERVAL;VALUE=DURATION:PT1H
X-Robots-Tag:noindex
X-PUBLISHED-TTL:PT1H
BEGIN:VTIMEZONE
TZID:America/New_York
BEGIN:DAYLIGHT
TZOFFSETFROM:-0500
TZOFFSETTO:-0400
TZNAME:EDT
DTSTART:20240310T070000
END:DAYLIGHT
BEGIN:STANDARD
TZOFFSETFROM:-0400
TZOFFSETTO:-0500
TZNAME:EST
DTSTART:20241103T060000
END:STANDARD
BEGIN:DAYLIGHT
TZOFFSETFROM:-0500
TZOFFSETTO:-0400
TZNAME:EDT
DTSTART:20250309T070000
END:DAYLIGHT
BEGIN:STANDARD
TZOFFSETFROM:-0400
TZOFFSETTO:-0500
TZNAME:EST
DTSTART:20251102T060000
END:STANDARD
BEGIN:DAYLIGHT
TZOFFSETFROM:-0500
TZOFFSETTO:-0400
TZNAME:EDT
DTSTART:20260308T070000
END:DAYLIGHT
BEGIN:STANDARD
TZOFFSETFROM:-0400
TZOFFSETTO:-0500
TZNAME:EST
DTSTART:20261101T060000
END:STANDARD
END:VTIMEZONE
BEGIN:VEVENT
DTSTART;TZID=America/New_York:20251119T180000
DTEND;TZID=America/New_York:20251119T200000
DTSTAMP:20260421T111109
CREATED:20251020T203317Z
LAST-MODIFIED:20251028T181749Z
UID:21038-1763575200-1763582400@www.crossparkchurch.org
SUMMARY:Cross Park's Got Talent
DESCRIPTION:Time to get your act together!! Come one\, come all to the first annual “Cross Park’s Got Talent” show on Wednesday\, November 19 from 6-8PM! This event is presented by our Children and Youth ministries and is meant to showcase everyone’s talents regardless of age! Can you juggle hammers? Play a kazoo? Tell dad jokes? Replace a bike tire at NASCAR speeds? Replicate the calls of exotic birds? Reenact dramatic scenes from Disney classics?? Do a cartwheel blindfolded? Come show us! \nActs can be very brief or up to 5 minutes in length. Dinner will be provided (sandwiches and chips). Sign up here to showcase a talent if you’d like to participate. Please bring your chair and a dessert to share. We are so excited to see a menagerie of Cross Park’s talents!
URL:https://www.crossparkchurch.org/event/cross-parks-got-talent-2025/
LOCATION:Hemby Program Center | YMCA\, 9760 Happy Valley Drive\, Charlotte\, NC\, 28270\, United States
CATEGORIES:Children,Special Events,Youth
ATTACH;FMTTYPE=image/png:https://www.crossparkchurch.org/wp-content/uploads/2025/10/1119-CPs-Got-Talent-2025-Misc-Events-1600-×-900-px.png
ORGANIZER;CN="Katie Gignac":MAILTO:kids@crossparkchurch.org
END:VEVENT
END:VCALENDAR