BEGIN:VCALENDAR
VERSION:2.0
PRODID:-//Cross Park Church - ECPv6.15.20//NONSGML v1.0//EN
CALSCALE:GREGORIAN
METHOD:PUBLISH
X-ORIGINAL-URL:https://www.crossparkchurch.org
X-WR-CALDESC:Events for Cross Park Church
REFRESH-INTERVAL;VALUE=DURATION:PT1H
X-Robots-Tag:noindex
X-PUBLISHED-TTL:PT1H
BEGIN:VTIMEZONE
TZID:America/New_York
BEGIN:DAYLIGHT
TZOFFSETFROM:-0500
TZOFFSETTO:-0400
TZNAME:EDT
DTSTART:20200308T070000
END:DAYLIGHT
BEGIN:STANDARD
TZOFFSETFROM:-0400
TZOFFSETTO:-0500
TZNAME:EST
DTSTART:20201101T060000
END:STANDARD
BEGIN:DAYLIGHT
TZOFFSETFROM:-0500
TZOFFSETTO:-0400
TZNAME:EDT
DTSTART:20210314T070000
END:DAYLIGHT
BEGIN:STANDARD
TZOFFSETFROM:-0400
TZOFFSETTO:-0500
TZNAME:EST
DTSTART:20211107T060000
END:STANDARD
BEGIN:DAYLIGHT
TZOFFSETFROM:-0500
TZOFFSETTO:-0400
TZNAME:EDT
DTSTART:20220313T070000
END:DAYLIGHT
BEGIN:STANDARD
TZOFFSETFROM:-0400
TZOFFSETTO:-0500
TZNAME:EST
DTSTART:20221106T060000
END:STANDARD
BEGIN:DAYLIGHT
TZOFFSETFROM:-0500
TZOFFSETTO:-0400
TZNAME:EDT
DTSTART:20230312T070000
END:DAYLIGHT
BEGIN:STANDARD
TZOFFSETFROM:-0400
TZOFFSETTO:-0500
TZNAME:EST
DTSTART:20231105T060000
END:STANDARD
BEGIN:DAYLIGHT
TZOFFSETFROM:-0500
TZOFFSETTO:-0400
TZNAME:EDT
DTSTART:20240310T070000
END:DAYLIGHT
BEGIN:STANDARD
TZOFFSETFROM:-0400
TZOFFSETTO:-0500
TZNAME:EST
DTSTART:20241103T060000
END:STANDARD
BEGIN:DAYLIGHT
TZOFFSETFROM:-0500
TZOFFSETTO:-0400
TZNAME:EDT
DTSTART:20250309T070000
END:DAYLIGHT
BEGIN:STANDARD
TZOFFSETFROM:-0400
TZOFFSETTO:-0500
TZNAME:EST
DTSTART:20251102T060000
END:STANDARD
BEGIN:DAYLIGHT
TZOFFSETFROM:-0500
TZOFFSETTO:-0400
TZNAME:EDT
DTSTART:20260308T070000
END:DAYLIGHT
BEGIN:STANDARD
TZOFFSETFROM:-0400
TZOFFSETTO:-0500
TZNAME:EST
DTSTART:20261101T060000
END:STANDARD
END:VTIMEZONE
BEGIN:VTIMEZONE
TZID:UTC
BEGIN:STANDARD
TZOFFSETFROM:+0000
TZOFFSETTO:+0000
TZNAME:UTC
DTSTART:20210101T000000
END:STANDARD
END:VTIMEZONE
BEGIN:VEVENT
DTSTART;TZID=America/New_York:20250423T183000
DTEND;TZID=America/New_York:20250423T200000
DTSTAMP:20260421T054705
CREATED:20240815T174448Z
LAST-MODIFIED:20250110T163931Z
UID:19717-1745433000-1745438400@www.crossparkchurch.org
SUMMARY:345 Club
DESCRIPTION:If you’ve got a 3rd\, 4th\, or 5th grade student\, the 345 Club was created for them! This spring\, our 3rd\, 4th\, and 5th graders will be learning about the Sermon on the Mount alongside their peers. We will meet on the Hemby Campus while the youth group meets. We will meet on the following Wednesdays from 6:30-8PM. Mark your calendars: \n-Feb 5\n-Feb 19\n-Mar 5\n-Mar 19\n-Apr 2\n-Apr 23\n-May 7\n-May 21
URL:https://www.crossparkchurch.org/event/345-club-spring-2025/2025-04-23/
LOCATION:Hemby Program Center | YMCA\, 9760 Happy Valley Drive\, Charlotte\, NC\, 28270\, United States
CATEGORIES:Children
ATTACH;FMTTYPE=image/png:https://www.crossparkchurch.org/wp-content/uploads/2024/02/345.png
END:VEVENT
BEGIN:VEVENT
DTSTART;TZID=America/New_York:20250205T183000
DTEND;TZID=America/New_York:20250205T200000
DTSTAMP:20260421T054705
CREATED:20240815T174448Z
LAST-MODIFIED:20250110T163930Z
UID:18876-1738780200-1738785600@www.crossparkchurch.org
SUMMARY:345 Club
DESCRIPTION:If you’ve got a 3rd\, 4th\, or 5th grade student\, the 345 Club was created for them! This spring\, our 3rd\, 4th\, and 5th graders will be learning about the Sermon on the Mount alongside their peers. We will meet on the Hemby Campus while the youth group meets. We will meet on the following Wednesdays from 6:30-8PM. Mark your calendars: \n-Feb 5\n-Feb 19\n-Mar 5\n-Mar 19\n-Apr 2\n-Apr 23\n-May 7\n-May 21
URL:https://www.crossparkchurch.org/event/345-club-spring-2025/2025-02-05/
LOCATION:Hemby Program Center | YMCA\, 9760 Happy Valley Drive\, Charlotte\, NC\, 28270\, United States
CATEGORIES:Children
ATTACH;FMTTYPE=image/png:https://www.crossparkchurch.org/wp-content/uploads/2024/02/345.png
END:VEVENT
BEGIN:VEVENT
DTSTART;TZID=America/New_York:20240814T090000
DTEND;TZID=America/New_York:20240814T103000
DTSTAMP:20260421T054705
CREATED:20240703T234849Z
LAST-MODIFIED:20240703T235823Z
UID:18762-1723626000-1723631400@www.crossparkchurch.org
SUMMARY:Children's Ministry Summer Play at the Park
DESCRIPTION:Let’s play together! We will gather together in the mornings to try and beat the heat. Plan to stay for as long or as little as you’d like. Join us for some summer fun at different parks around the city.
URL:https://www.crossparkchurch.org/event/childrens-ministry-summer-play-at-the-park-aug-2024/
LOCATION:Pineville Lake Park & Splash Pad\, 909 Lakeview Drive\, Pineville\, NC\, 28134\, United States
CATEGORIES:Children,Special Events
ATTACH;FMTTYPE=image/png:https://www.crossparkchurch.org/wp-content/uploads/2024/07/CM-Park_August-14th-@-9am-Pineville-Lake-Park-Splash-Pad-1600-×-900-px.png
END:VEVENT
BEGIN:VEVENT
DTSTART;TZID=America/New_York:20240724T090000
DTEND;TZID=America/New_York:20240724T103000
DTSTAMP:20260421T054705
CREATED:20240703T235139Z
LAST-MODIFIED:20240703T235609Z
UID:18767-1721811600-1721817000@www.crossparkchurch.org
SUMMARY:Children's Ministry Summer Play at the Park
DESCRIPTION:Let’s play together! We will gather together in the mornings to try and beat the heat. Plan to stay for as long or as little as you’d like. Join us for some summer fun at different parks around the city.
URL:https://www.crossparkchurch.org/event/childrens-ministry-summer-play-at-the-park-july-2024/
LOCATION:William R. Davie Park\, 4635 Pineville-Matthews Rd\, Charlotte\, NC\, 28226\, United States
CATEGORIES:Children,Special Events
ATTACH;FMTTYPE=image/png:https://www.crossparkchurch.org/wp-content/uploads/2024/07/CM-Park_August-14th-@-9am-Pineville-Lake-Park-Splash-Pad-1600-×-900-px.png
END:VEVENT
BEGIN:VEVENT
DTSTART;TZID=America/New_York:20240628T090000
DTEND;TZID=America/New_York:20240628T103000
DTSTAMP:20260421T054705
CREATED:20240704T000208Z
LAST-MODIFIED:20240704T000442Z
UID:18774-1719565200-1719570600@www.crossparkchurch.org
SUMMARY:Children's Ministry Summer Play at the Park
DESCRIPTION:Let’s play together! We will gather together in the mornings to try and beat the heat. Plan to stay for as long or as little as you’d like. Join us for some summer fun at different parks around the city.
URL:https://www.crossparkchurch.org/event/childrens-ministry-summer-play-at-the-park-june-2024/
LOCATION:Colonel Francis Beatty Park\, 4330 Weddington Road\, Matthews\, NC\, 28105\, United States
CATEGORIES:Children
ATTACH;FMTTYPE=image/png:https://www.crossparkchurch.org/wp-content/uploads/2024/07/CM-Park_June-28th-@-9am-Colonel-Francis-Beatty-Park-1600-×-900-px.png
END:VEVENT
BEGIN:VEVENT
DTSTART;TZID=UTC:20240331T120000
DTEND;TZID=UTC:20240331T123000
DTSTAMP:20260421T054705
CREATED:20240301T170539Z
LAST-MODIFIED:20240301T170539Z
UID:18205-1711886400-1711888200@www.crossparkchurch.org
SUMMARY:Easter Egg Hunt
DESCRIPTION:Join us after our 10:30AM Easter service followed by an Easter egg hunt put on by the Children’s Ministry for 1 year olds (or walkers) through 5th graders. Bring your own basket!
URL:https://www.crossparkchurch.org/event/easter-egg-hunt-2024/
LOCATION:Hemby Program Center | YMCA\, 9760 Happy Valley Drive\, Charlotte\, NC\, 28270\, United States
CATEGORIES:Children,Special Events
ATTACH;FMTTYPE=image/png:https://www.crossparkchurch.org/wp-content/uploads/2023/03/EasterBrunch2023_MailchimpEgg.png
END:VEVENT
BEGIN:VEVENT
DTSTART;TZID=America/New_York:20240131T063000
DTEND;TZID=America/New_York:20240131T200000
DTSTAMP:20260421T054705
CREATED:20240112T124115Z
LAST-MODIFIED:20240112T125042Z
UID:17990-1706682600-1706731200@www.crossparkchurch.org
SUMMARY:345 Club
DESCRIPTION:If you’ve got a 3rd\, 4th\, or 5th grade student\, let them know that we’ve created the 345 Club for them! (….get it?? 3rd\, 4th\, 5th? 345!?!? Brilliant!!) This spring\, our 3rd\, 4th\, and 5th graders will be learning about the Full Armor of God alongside their peers. We will be meeting in the Willow Cabin (that’s the cabin right beside the pavilion where we meet on Sunday morning; building 3 on this map) at the Hemby Campus while the youth group meets. We will meet on the following Wednesdays from 6:30 to 8pm. Mark your calendars with the following dates:\n\nJanuary 31  |  Belt of Truth –  Pizza provided for dinner! 🍕\nFebruary 14  |  Breastplate of Righteousness\nFebruary 28  |  Shoes of Peace\nMarch 13  |  Shield of Faith\nApril 10  |  Helmet of Salvation\nMay 1  |  Sword of the Spirit\nMay 15  |  Prayer\nMay 22  |  The Full Armor of God
URL:https://www.crossparkchurch.org/event/345-club-spring-2024/2024-01-31/
LOCATION:Hemby Program Center | YMCA\, 9760 Happy Valley Drive\, Charlotte\, NC\, 28270\, United States
CATEGORIES:Children
ATTACH;FMTTYPE=image/png:https://www.crossparkchurch.org/wp-content/uploads/2024/01/345-Club_White_1600x900.png
END:VEVENT
BEGIN:VEVENT
DTSTART;TZID=UTC:20230409T120000
DTEND;TZID=UTC:20230409T123000
DTSTAMP:20260421T054705
CREATED:20230324T152705Z
LAST-MODIFIED:20230324T152705Z
UID:16500-1681041600-1681043400@www.crossparkchurch.org
SUMMARY:Easter Egg Hunt
DESCRIPTION:Join us after our 10:30AM Easter service followed by an Easter egg hunt put on by the Children’s Ministry for 1 year olds (or walkers) through 5th graders. Bring your own basket!
URL:https://www.crossparkchurch.org/event/easter-egg-hunt-2023/
LOCATION:Hemby Program Center | YMCA\, 9760 Happy Valley Drive\, Charlotte\, NC\, 28270\, United States
CATEGORIES:Children,Special Events
ATTACH;FMTTYPE=image/png:https://www.crossparkchurch.org/wp-content/uploads/2023/03/EasterBrunch2023_MailchimpEgg.png
END:VEVENT
BEGIN:VEVENT
DTSTART;TZID=America/New_York:20220508T094500
DTEND;TZID=America/New_York:20220508T101500
DTSTAMP:20260421T054705
CREATED:20220426T215016Z
LAST-MODIFIED:20220426T215016Z
UID:14359-1652003100-1652004900@www.crossparkchurch.org
SUMMARY:2nd-5th Grade Small Group
DESCRIPTION:We are beginning a new 6-week Sunday morning small group for all 2nd through 5th graders beginning on 5/8 running through 6/12 from 9:45-10:15AM.
URL:https://www.crossparkchurch.org/event/2nd-5th-grade-small-group/2022-05-08/
LOCATION:Hemby Program Center | YMCA\, 9760 Happy Valley Drive\, Charlotte\, NC\, 28270\, United States
CATEGORIES:Children
ATTACH;FMTTYPE=image/png:https://www.crossparkchurch.org/wp-content/uploads/2022/04/CM-Images.png
END:VEVENT
BEGIN:VEVENT
DTSTART;TZID=UTC:20220417T120000
DTEND;TZID=UTC:20220417T123000
DTSTAMP:20260421T054705
CREATED:20220402T002818Z
LAST-MODIFIED:20220402T002818Z
UID:14251-1650196800-1650198600@www.crossparkchurch.org
SUMMARY:Easter Egg Hunt
DESCRIPTION:Join us after our 10:30AM Easter service followed by an Easter story and egg hunt put on by the Children’s Ministry for 1 year olds (or walkers) through 5th graders. Bring your own basket!
URL:https://www.crossparkchurch.org/event/easter-egg-hunt-2022/
LOCATION:Hemby Program Center | YMCA\, 9760 Happy Valley Drive\, Charlotte\, NC\, 28270\, United States
CATEGORIES:Children,Special Events
ATTACH;FMTTYPE=image/png:https://www.crossparkchurch.org/wp-content/uploads/2022/04/37311A23-84BB-4557-9AEF-92E97BD24328.png
ORGANIZER;CN="Erin":MAILTO:erin@crossparkchurch.org
END:VEVENT
BEGIN:VEVENT
DTSTART;TZID=America/New_York:20210404T120000
DTEND;TZID=America/New_York:20210404T121500
DTSTAMP:20260421T054705
CREATED:20210401T172446Z
LAST-MODIFIED:20210401T172446Z
UID:11375-1617537600-1617538500@www.crossparkchurch.org
SUMMARY:Easter Egg Hunt
DESCRIPTION:Join us this Sunday\, 4/4 after service for an Easter story reading and a small Easter egg hunt. Gather at the back of the parking lot post service. The egg hunt will be for children in 2nd grade and younger. Please do not bring a basket as bags will be provided for every child.
URL:https://www.crossparkchurch.org/event/easter-egg-hunt/
LOCATION:RTS\, 2101 Carmel Rd\, Charlotte\, NC\, 28226\, United States
CATEGORIES:Children,Special Events
ATTACH;FMTTYPE=image/png:https://www.crossparkchurch.org/wp-content/uploads/2021/04/MISC-Events.png
ORGANIZER;CN="Erin":MAILTO:erin@crossparkchurch.org
END:VEVENT
END:VCALENDAR