BEGIN:VCALENDAR
VERSION:2.0
PRODID:-//Cross Park Church - ECPv6.15.20//NONSGML v1.0//EN
CALSCALE:GREGORIAN
METHOD:PUBLISH
X-ORIGINAL-URL:https://www.crossparkchurch.org
X-WR-CALDESC:Events for Cross Park Church
REFRESH-INTERVAL;VALUE=DURATION:PT1H
X-Robots-Tag:noindex
X-PUBLISHED-TTL:PT1H
BEGIN:VTIMEZONE
TZID:America/New_York
BEGIN:DAYLIGHT
TZOFFSETFROM:-0500
TZOFFSETTO:-0400
TZNAME:EDT
DTSTART:20240310T070000
END:DAYLIGHT
BEGIN:STANDARD
TZOFFSETFROM:-0400
TZOFFSETTO:-0500
TZNAME:EST
DTSTART:20241103T060000
END:STANDARD
BEGIN:DAYLIGHT
TZOFFSETFROM:-0500
TZOFFSETTO:-0400
TZNAME:EDT
DTSTART:20250309T070000
END:DAYLIGHT
BEGIN:STANDARD
TZOFFSETFROM:-0400
TZOFFSETTO:-0500
TZNAME:EST
DTSTART:20251102T060000
END:STANDARD
BEGIN:DAYLIGHT
TZOFFSETFROM:-0500
TZOFFSETTO:-0400
TZNAME:EDT
DTSTART:20260308T070000
END:DAYLIGHT
BEGIN:STANDARD
TZOFFSETFROM:-0400
TZOFFSETTO:-0500
TZNAME:EST
DTSTART:20261101T060000
END:STANDARD
END:VTIMEZONE
BEGIN:VEVENT
DTSTART;VALUE=DATE:20250131
DTEND;VALUE=DATE:20250202
DTSTAMP:20260424T033726
CREATED:20241126T231238Z
LAST-MODIFIED:20241126T231238Z
UID:19608-1738281600-1738454399@www.crossparkchurch.org
SUMMARY:Made For More Conference
DESCRIPTION:Early Registration Cost (Through 12/31/24): $75/person; $30 for girls Grades 3-12 and college students. Price includes registration\, Saturday lunch\, and supplies for Created for a Purpose. Register here. Also\, please reach out to Katherine Barringer at women@crossparkchurch.org about scholarships to help cover the cost! Note: On the registration form\, Cross Park Church is listed as located in Matthews\, NC.
URL:https://www.crossparkchurch.org/event/made-for-more-conference-2025/
LOCATION:Christ Covenant Church\, 800 Fullwood Lane\, Matthews\, NC\, 28105\, United States
CATEGORIES:Women
ATTACH;FMTTYPE=image/jpeg:https://www.crossparkchurch.org/wp-content/uploads/2024/11/MadeforMore-Social-Matthews2-1200x1200-1.jpg
ORGANIZER;CN="Katherine Barringer":MAILTO:women@crossparkchurch.org
END:VEVENT
BEGIN:VEVENT
DTSTART;TZID=America/New_York:20250202T140000
DTEND;TZID=America/New_York:20250202T173000
DTSTAMP:20260424T033726
CREATED:20241206T145639Z
LAST-MODIFIED:20241206T145639Z
UID:19626-1738504800-1738517400@www.crossparkchurch.org
SUMMARY:Alongside Families Training
DESCRIPTION:We all need a community of support\, especially when life is overwhelming. Alongside Families helps isolated parents to get back on their feet during hard times by providing short-term care for their children through volunteer host families in local\, partner churches. Alongside Families gives parents space to address their situation without the fear of losing custody of their children and builds lasting relationships for families in crisis so that they can thrive within gospel-centered communities. \nJoin us for Alongside Families’ Foundations Training on Sunday\, February 2 from 2:00-5:30PM in Magnolia (Hemby) to learn more about how you and your family can be involved and be equipped to start serving your neighbors in Charlotte now! REGISTRATION
URL:https://www.crossparkchurch.org/event/alongside-families-training-feb-2025/
LOCATION:Hemby Program Center | YMCA\, 9760 Happy Valley Drive\, Charlotte\, NC\, 28270\, United States
CATEGORIES:Special Events
ATTACH;FMTTYPE=image/png:https://www.crossparkchurch.org/wp-content/uploads/2023/10/AF-Logo_Full-Color_Vert-1.png
ORGANIZER;CN="Michelle Clarke":MAILTO:6sharparrows@gmail.com
END:VEVENT
BEGIN:VEVENT
DTSTART;TZID=America/New_York:20250205T183000
DTEND;TZID=America/New_York:20250205T200000
DTSTAMP:20260424T033726
CREATED:20240815T174448Z
LAST-MODIFIED:20250110T163930Z
UID:18876-1738780200-1738785600@www.crossparkchurch.org
SUMMARY:345 Club
DESCRIPTION:If you’ve got a 3rd\, 4th\, or 5th grade student\, the 345 Club was created for them! This spring\, our 3rd\, 4th\, and 5th graders will be learning about the Sermon on the Mount alongside their peers. We will meet on the Hemby Campus while the youth group meets. We will meet on the following Wednesdays from 6:30-8PM. Mark your calendars: \n-Feb 5\n-Feb 19\n-Mar 5\n-Mar 19\n-Apr 2\n-Apr 23\n-May 7\n-May 21
URL:https://www.crossparkchurch.org/event/345-club-spring-2025/2025-02-05/
LOCATION:Hemby Program Center | YMCA\, 9760 Happy Valley Drive\, Charlotte\, NC\, 28270\, United States
CATEGORIES:Children
ATTACH;FMTTYPE=image/png:https://www.crossparkchurch.org/wp-content/uploads/2024/02/345.png
END:VEVENT
BEGIN:VEVENT
DTSTART;TZID=America/New_York:20250209T180000
DTEND;TZID=America/New_York:20250209T220000
DTSTAMP:20260424T033726
CREATED:20250114T232748Z
LAST-MODIFIED:20250114T232748Z
UID:19733-1739124000-1739138400@www.crossparkchurch.org
SUMMARY:Youth Super Bowl Watch Party
DESCRIPTION:It’s Super Bowl time! Come out to our annual Super Bowl Watch Party. Join us for the first half of football\, fellowship\, and food! \nWhen: February 9th @ 6:00 PM\nWhere: Newcott home. 3833 Rea Road Charlotte\, NC 28226 \nWe’ll provide some pizza and drinks but sign up to bring an additional dish or snack here.
URL:https://www.crossparkchurch.org/event/youth-super-bowl-watch-party-2025/
LOCATION:Newcotts\, 3833 Rea Road\, Charlotte\, NC\, 28226\, United States
CATEGORIES:Youth
ATTACH;FMTTYPE=image/jpeg:https://www.crossparkchurch.org/wp-content/uploads/2025/01/unnamed.jpg
ORGANIZER;CN="Patrick Thatch":MAILTO:youth@crossparkchurch.org
END:VEVENT
BEGIN:VEVENT
DTSTART;VALUE=DATE:20250214
DTEND;VALUE=DATE:20250217
DTSTAMP:20260424T033726
CREATED:20250114T233103Z
LAST-MODIFIED:20250114T233226Z
UID:19736-1739491200-1739750399@www.crossparkchurch.org
SUMMARY:Youth Winter Retreat 2025
DESCRIPTION:When: February 14-16\nWhere: Bonclarken Retreat Center\nWho: 6-12th graders\nCost: $160/student – $140/each additional sibling\nRegistration Deadline: February 7\nRegister here: Winter Retreat Registration Form\nDon’t miss our 2025 Winter Retreat! This will be a great opportunity for students to get away\, have some fun\, and spend time thinking about their relationship with God and others. Retreats are also a chance to bring friends and introduce them to the CPC community.\n\nWe are looking forward to an awesome time together! More details to come as we get closer to the retreat weekend.\n\nIf you need financial assistance\, please don’t hesitate to reach out to me before registering.\nPatrick Thatch\nyouth@crossparkchurch.org
URL:https://www.crossparkchurch.org/event/youth-winter-retreat-2025/
LOCATION:Bonclarken Conference Center\, 500 Pine Drive\, Flat Rock\, NC\, 28731\, United States
CATEGORIES:Youth
ATTACH;FMTTYPE=image/png:https://www.crossparkchurch.org/wp-content/uploads/2022/08/MISC-Events-1600-×-900-px.png
ORGANIZER;CN="Patrick Thatch":MAILTO:youth@crossparkchurch.org
END:VEVENT
BEGIN:VEVENT
DTSTART;TZID=America/New_York:20250223T094500
DTEND;TZID=America/New_York:20250223T101500
DTSTAMP:20260424T033726
CREATED:20250218T023044Z
LAST-MODIFIED:20250218T023609Z
UID:19837-1740303900-1740305700@www.crossparkchurch.org
SUMMARY:Prayer Gathering
DESCRIPTION:We invite you to join us on Sunday\, February 23 at 9:45 am to hear a short update from our Facility Search Team and pray together.
URL:https://www.crossparkchurch.org/event/prayer-gathering-2-23-2025/
LOCATION:Hemby Program Center | YMCA\, 9760 Happy Valley Drive\, Charlotte\, NC\, 28270\, United States
CATEGORIES:Special Events
ATTACH;FMTTYPE=image/jpeg:https://www.crossparkchurch.org/wp-content/uploads/2022/01/Woman-Praying.jpg
ORGANIZER;CN="Erin":MAILTO:erin@crossparkchurch.org
END:VEVENT
END:VCALENDAR