BEGIN:VCALENDAR
VERSION:2.0
PRODID:-//Cross Park Church - ECPv6.15.20//NONSGML v1.0//EN
CALSCALE:GREGORIAN
METHOD:PUBLISH
X-WR-CALNAME:Cross Park Church
X-ORIGINAL-URL:https://www.crossparkchurch.org
X-WR-CALDESC:Events for Cross Park Church
REFRESH-INTERVAL;VALUE=DURATION:PT1H
X-Robots-Tag:noindex
X-PUBLISHED-TTL:PT1H
BEGIN:VTIMEZONE
TZID:America/New_York
BEGIN:DAYLIGHT
TZOFFSETFROM:-0500
TZOFFSETTO:-0400
TZNAME:EDT
DTSTART:20240310T070000
END:DAYLIGHT
BEGIN:STANDARD
TZOFFSETFROM:-0400
TZOFFSETTO:-0500
TZNAME:EST
DTSTART:20241103T060000
END:STANDARD
BEGIN:DAYLIGHT
TZOFFSETFROM:-0500
TZOFFSETTO:-0400
TZNAME:EDT
DTSTART:20250309T070000
END:DAYLIGHT
BEGIN:STANDARD
TZOFFSETFROM:-0400
TZOFFSETTO:-0500
TZNAME:EST
DTSTART:20251102T060000
END:STANDARD
BEGIN:DAYLIGHT
TZOFFSETFROM:-0500
TZOFFSETTO:-0400
TZNAME:EDT
DTSTART:20260308T070000
END:DAYLIGHT
BEGIN:STANDARD
TZOFFSETFROM:-0400
TZOFFSETTO:-0500
TZNAME:EST
DTSTART:20261101T060000
END:STANDARD
END:VTIMEZONE
BEGIN:VEVENT
DTSTART;TZID=America/New_York:20250420T093000
DTEND;TZID=America/New_York:20250420T101500
DTSTAMP:20260422T181246
CREATED:20250203T191258Z
LAST-MODIFIED:20250203T191258Z
UID:19799-1745141400-1745144100@www.crossparkchurch.org
SUMMARY:Easter Breakfast
DESCRIPTION:No Sunday school this week! Instead\, join us for a potluck Easter Breakfast. Please sign up here to bring a shared dish. Don’t forget to bring serving utensils!
URL:https://www.crossparkchurch.org/event/easter-breakfast-2025/
LOCATION:Hemby Program Center | YMCA\, 9760 Happy Valley Drive\, Charlotte\, NC\, 28270\, United States
CATEGORIES:Special Events
ORGANIZER;CN="Erin":MAILTO:erin@crossparkchurch.org
END:VEVENT
BEGIN:VEVENT
DTSTART;TZID=America/New_York:20250423T183000
DTEND;TZID=America/New_York:20250423T200000
DTSTAMP:20260422T181246
CREATED:20240815T174448Z
LAST-MODIFIED:20250110T163931Z
UID:19717-1745433000-1745438400@www.crossparkchurch.org
SUMMARY:345 Club
DESCRIPTION:If you’ve got a 3rd\, 4th\, or 5th grade student\, the 345 Club was created for them! This spring\, our 3rd\, 4th\, and 5th graders will be learning about the Sermon on the Mount alongside their peers. We will meet on the Hemby Campus while the youth group meets. We will meet on the following Wednesdays from 6:30-8PM. Mark your calendars: \n-Feb 5\n-Feb 19\n-Mar 5\n-Mar 19\n-Apr 2\n-Apr 23\n-May 7\n-May 21
URL:https://www.crossparkchurch.org/event/345-club-spring-2025/2025-04-23/
LOCATION:Hemby Program Center | YMCA\, 9760 Happy Valley Drive\, Charlotte\, NC\, 28270\, United States
CATEGORIES:Children
ATTACH;FMTTYPE=image/png:https://www.crossparkchurch.org/wp-content/uploads/2024/02/345.png
END:VEVENT
BEGIN:VEVENT
DTSTART;TZID=America/New_York:20250423T183000
DTEND;TZID=America/New_York:20250423T200000
DTSTAMP:20260422T181246
CREATED:20241021T195410Z
LAST-MODIFIED:20241021T213450Z
UID:19362-1745433000-1745438400@www.crossparkchurch.org
SUMMARY:Youth Group
DESCRIPTION:Join us for Youth Group as we continue to hear stories of redemption from various Cross Park members. Come hear the redeemed of the LORD say so! Psalm 107:2
URL:https://www.crossparkchurch.org/event/youth-group-2024-2025/2025-04-23/
LOCATION:Hemby Program Center | YMCA\, 9760 Happy Valley Drive\, Charlotte\, NC\, 28270\, United States
CATEGORIES:Youth
ATTACH;FMTTYPE=image/jpeg:https://www.crossparkchurch.org/wp-content/uploads/2023/12/Youth-Group-Website-1-scaled.jpg
END:VEVENT
BEGIN:VEVENT
DTSTART;TZID=America/New_York:20250426T070000
DTEND;TZID=America/New_York:20250426T083000
DTSTAMP:20260422T181246
CREATED:20240430T195248Z
LAST-MODIFIED:20250425T103013Z
UID:18519-1745650800-1745656200@www.crossparkchurch.org
SUMMARY:Men's Prayer Breakfast
DESCRIPTION:*rescheduled from 4/19 due to the cms spring break* \nMen of Cross Park – make plans to join us for breakfast and prayer on Saturday\, April 26\, at the home of William and Amy Henderson. Arrive at 7am and Jake Spencer will have the pancakes hot and ready! After 45 minutes of enjoying fellowship together over breakfast\, we’ll spend 45 minutes in prayer together for the Kingdom to come in and through Cross Park Church. Out by 8:30 and on with your day! Reach out to Grant with any questions.
URL:https://www.crossparkchurch.org/event/mens-prayer-2025-04-26/
LOCATION:Henderson Home\, 8700 Brownes Pond Lane\, Charlotte\, NC\, 28277\, United States
CATEGORIES:Men
ATTACH;FMTTYPE=image/png:https://www.crossparkchurch.org/wp-content/uploads/2024/04/Mens-Ministry-monthly-prayer_third-saturday.png
ORGANIZER;CN="Grant Beachy":MAILTO:grant@crossparkchurch.org
END:VEVENT
BEGIN:VEVENT
DTSTART;TZID=America/New_York:20250427T093000
DTEND;TZID=America/New_York:20250427T101500
DTSTAMP:20260422T181246
CREATED:20241026T135843Z
LAST-MODIFIED:20241026T135858Z
UID:19450-1745746200-1745748900@www.crossparkchurch.org
SUMMARY:SUNDAY SCHOOL
DESCRIPTION:Adult Spring Sunday School\nTBA \nSunday School for all ages will begin at our Spring Kick Off on Sunday 3/2/2025 at 9:30AM. \nClass Locations for Sunday School\nNursery (birth-3yo): Magnolia (small room)/4\nYoung Children (4-1st grade): Maple Cabin/8\nOlder Children (2nd-5th grade): Poplar Cabin/7\nYouth: Magnolia (large room)/4\nAdults: Sycamore/5
URL:https://www.crossparkchurch.org/event/sunday-school-spring-2025/2025-04-27/
LOCATION:Hemby Program Center | YMCA\, 9760 Happy Valley Drive\, Charlotte\, NC\, 28270\, United States
CATEGORIES:Worship
ATTACH;FMTTYPE=image/png:https://www.crossparkchurch.org/wp-content/uploads/2023/01/MISC-Events-1600-×-900-px.png
ORGANIZER;CN="Erin":MAILTO:erin@crossparkchurch.org
END:VEVENT
BEGIN:VEVENT
DTSTART;TZID=America/New_York:20250427T103000
DTEND;TZID=America/New_York:20250427T120000
DTSTAMP:20260422T181246
CREATED:20241026T140140Z
LAST-MODIFIED:20241026T140207Z
UID:19476-1745749800-1745755200@www.crossparkchurch.org
SUMMARY:IN-PERSON SERVICE @ HEMBY PROGRAM CENTER | YMCA
DESCRIPTION:TIME & LOCATION INFORMATION WITH MAP \nFor more information on what to expect\, please click here. \nBulletin for mobile viewing: Mobile Bulletin\nBulletin for print: Print Bulletin \nTo be notified of updates\, please sign up for our weekly announcements. \nClass Locations for Worship Service – 10:30AM\nNursery (birth-1yo): Magnolia (small room)/4\nNursery (2-3yo): Magnolia (large room)/4\n*Children’s Worship (4-5yo): Maple Cabin/8\n*Children’s Worship (K-1st grade): Poplar Cabin/7\n*Older Children (2nd-5th grade): Stay in service & Sermon Notes \n*The Worship Leader will dismiss the kids to Children’s Worship after Pastoral Prayer.
URL:https://www.crossparkchurch.org/event/in-person-service-hemby-program-center-ymca-spring-2025/2025-04-27/
LOCATION:Hemby Program Center | YMCA\, 9760 Happy Valley Drive\, Charlotte\, NC\, 28270\, United States
CATEGORIES:Worship
ATTACH;FMTTYPE=image/png:https://www.crossparkchurch.org/wp-content/uploads/2022/01/MISC-Events-1600-×-900-px-3.png
ORGANIZER;CN="Erin":MAILTO:erin@crossparkchurch.org
END:VEVENT
BEGIN:VEVENT
DTSTART;TZID=America/New_York:20250430T183000
DTEND;TZID=America/New_York:20250430T200000
DTSTAMP:20260422T181246
CREATED:20241021T195410Z
LAST-MODIFIED:20241021T213450Z
UID:19363-1746037800-1746043200@www.crossparkchurch.org
SUMMARY:Youth Group
DESCRIPTION:Join us for Youth Group as we continue to hear stories of redemption from various Cross Park members. Come hear the redeemed of the LORD say so! Psalm 107:2
URL:https://www.crossparkchurch.org/event/youth-group-2024-2025/2025-04-30/
LOCATION:Hemby Program Center | YMCA\, 9760 Happy Valley Drive\, Charlotte\, NC\, 28270\, United States
CATEGORIES:Youth
ATTACH;FMTTYPE=image/jpeg:https://www.crossparkchurch.org/wp-content/uploads/2023/12/Youth-Group-Website-1-scaled.jpg
END:VEVENT
END:VCALENDAR