BEGIN:VCALENDAR
VERSION:2.0
PRODID:-//Cross Park Church - ECPv6.15.20//NONSGML v1.0//EN
CALSCALE:GREGORIAN
METHOD:PUBLISH
X-WR-CALNAME:Cross Park Church
X-ORIGINAL-URL:https://www.crossparkchurch.org
X-WR-CALDESC:Events for Cross Park Church
REFRESH-INTERVAL;VALUE=DURATION:PT1H
X-Robots-Tag:noindex
X-PUBLISHED-TTL:PT1H
BEGIN:VTIMEZONE
TZID:America/New_York
BEGIN:DAYLIGHT
TZOFFSETFROM:-0500
TZOFFSETTO:-0400
TZNAME:EDT
DTSTART:20240310T070000
END:DAYLIGHT
BEGIN:STANDARD
TZOFFSETFROM:-0400
TZOFFSETTO:-0500
TZNAME:EST
DTSTART:20241103T060000
END:STANDARD
BEGIN:DAYLIGHT
TZOFFSETFROM:-0500
TZOFFSETTO:-0400
TZNAME:EDT
DTSTART:20250309T070000
END:DAYLIGHT
BEGIN:STANDARD
TZOFFSETFROM:-0400
TZOFFSETTO:-0500
TZNAME:EST
DTSTART:20251102T060000
END:STANDARD
BEGIN:DAYLIGHT
TZOFFSETFROM:-0500
TZOFFSETTO:-0400
TZNAME:EDT
DTSTART:20260308T070000
END:DAYLIGHT
BEGIN:STANDARD
TZOFFSETFROM:-0400
TZOFFSETTO:-0500
TZNAME:EST
DTSTART:20261101T060000
END:STANDARD
END:VTIMEZONE
BEGIN:VEVENT
DTSTART;TZID=America/New_York:20250706T093000
DTEND;TZID=America/New_York:20250706T110000
DTSTAMP:20260422T123807
CREATED:20250528T123353Z
LAST-MODIFIED:20250528T123353Z
UID:20156-1751794200-1751799600@www.crossparkchurch.org
SUMMARY:IN-PERSON SERVICE @ HEMBY PROGRAM CENTER | YMCA
DESCRIPTION:TIME & LOCATION INFORMATION WITH MAP \nFor more information on what to expect\, please click here. \nBulletin for mobile viewing: Mobile Bulletin\nBulletin for print: Print Bulletin \nTo be notified of updates\, please sign up for our weekly announcements. \nClass Locations for Worship Service – 9:30AM\nNursery (birth-1yo): Magnolia (small room)/4\nNursery (2-3yo): Magnolia (large room)/4\n*Children’s Worship (4-5yo): Maple Cabin/8\n*Children’s Worship (K-1st grade): Poplar Cabin/7\n*Older Children (2nd-5th grade): Stay in service & Sermon Notes \n*The Worship Leader will dismiss the kids to Children’s Worship after Pastoral Prayer.
URL:https://www.crossparkchurch.org/event/sunday-service-summer-schedule-2025/2025-07-06/
LOCATION:Hemby Program Center | YMCA\, 9760 Happy Valley Drive\, Charlotte\, NC\, 28270\, United States
CATEGORIES:Worship
ATTACH;FMTTYPE=image/png:https://www.crossparkchurch.org/wp-content/uploads/2023/01/MISC-Events-1600-×-900-px-1.png
ORGANIZER;CN="Erin":MAILTO:erin@crossparkchurch.org
END:VEVENT
BEGIN:VEVENT
DTSTART;TZID=America/New_York:20250711T090000
DTEND;TZID=America/New_York:20250711T103000
DTSTAMP:20260422T123807
CREATED:20250531T160539Z
LAST-MODIFIED:20250629T220025Z
UID:20215-1752224400-1752229800@www.crossparkchurch.org
SUMMARY:Playground Takeover
DESCRIPTION:Let’s play together! Mark your calendar for the following dates this summer. We’ll gather together in the morning to try and beat the heat. Plan to stay for as long or as little as you’d like. Join us for some summer fun at different parks around the city \nWilliam R. Davie Park\nFriday\, July 11\n9:00 AM \nPineville Lake Park (and Splashpad)\nTuesday\, August 12\n9:00 AM
URL:https://www.crossparkchurch.org/event/playground-takeover-7-11-2025/
LOCATION:Colonel Francis J. Beatty Park
CATEGORIES:Children
ATTACH;FMTTYPE=image/png:https://www.crossparkchurch.org/wp-content/uploads/2025/05/711-CM-Playground-1600-×-900-px.png.png
ORGANIZER;CN="Erin":MAILTO:erin@crossparkchurch.org
END:VEVENT
BEGIN:VEVENT
DTSTART;TZID=America/New_York:20250713T093000
DTEND;TZID=America/New_York:20250713T110000
DTSTAMP:20260422T123807
CREATED:20250528T123353Z
LAST-MODIFIED:20250528T123353Z
UID:20157-1752399000-1752404400@www.crossparkchurch.org
SUMMARY:IN-PERSON SERVICE @ HEMBY PROGRAM CENTER | YMCA
DESCRIPTION:TIME & LOCATION INFORMATION WITH MAP \nFor more information on what to expect\, please click here. \nBulletin for mobile viewing: Mobile Bulletin\nBulletin for print: Print Bulletin \nTo be notified of updates\, please sign up for our weekly announcements. \nClass Locations for Worship Service – 9:30AM\nNursery (birth-1yo): Magnolia (small room)/4\nNursery (2-3yo): Magnolia (large room)/4\n*Children’s Worship (4-5yo): Maple Cabin/8\n*Children’s Worship (K-1st grade): Poplar Cabin/7\n*Older Children (2nd-5th grade): Stay in service & Sermon Notes \n*The Worship Leader will dismiss the kids to Children’s Worship after Pastoral Prayer.
URL:https://www.crossparkchurch.org/event/sunday-service-summer-schedule-2025/2025-07-13/
LOCATION:Hemby Program Center | YMCA\, 9760 Happy Valley Drive\, Charlotte\, NC\, 28270\, United States
CATEGORIES:Worship
ATTACH;FMTTYPE=image/png:https://www.crossparkchurch.org/wp-content/uploads/2023/01/MISC-Events-1600-×-900-px-1.png
ORGANIZER;CN="Erin":MAILTO:erin@crossparkchurch.org
END:VEVENT
BEGIN:VEVENT
DTSTART;TZID=America/New_York:20250717T190000
DTEND;TZID=America/New_York:20250717T210000
DTSTAMP:20260422T123807
CREATED:20250720T011356Z
LAST-MODIFIED:20250720T011356Z
UID:20377-1752778800-1752786000@www.crossparkchurch.org
SUMMARY:Women's Summer Book Club
DESCRIPTION:Women\, a summer book club is forming that you are invited to join! Wendy Shank will host two evenings of discussion of the autobiography of John Paton\, a missionary to the South Seas islands in the mid 19th century. This gripping account of his life\, call\, and mission is a classic among missionary biographies\, and his love for Christ and the gospel will challenge any believing reader to risk anything to reach those who have not yet known or trusted our savior. The meetings will be held on the evenings of June 19 and July 17. If you are interested to join this reading groupon either or both dates\, please let Wendy know by emailing wkshank62@gmail.com. We are looking at best ways to acquire book copies as a group\, but you are welcome to go ahead and purchase your copy on your own (this edition).
URL:https://www.crossparkchurch.org/event/womens-summer-book-club/2025-07-17/
LOCATION:Shank Home\, 503 Courtney Lane\, Matthews\, NC\, 28105\, United States
CATEGORIES:Women
ATTACH;FMTTYPE=image/png:https://www.crossparkchurch.org/wp-content/uploads/2025/06/Summer-2025-Womens-Book-Club-1600-×-900-px.png
ORGANIZER;CN="Wendy":MAILTO:wkshank62@gmail.com
END:VEVENT
BEGIN:VEVENT
DTSTART;TZID=America/New_York:20250719T070000
DTEND;TZID=America/New_York:20250719T080000
DTSTAMP:20260422T123807
CREATED:20240430T195248Z
LAST-MODIFIED:20250709T234434Z
UID:18815-1752908400-1752912000@www.crossparkchurch.org
SUMMARY:Men's Prayer
DESCRIPTION:Brothers\, please plan to attend our men’s prayer event on Saturday morning\, 7/19 from 7-8AM at the Shank home (503 Courtney Lane\, Matthews). Will spend an hour together praying for the expansion of God’s kingdom in and through Cross Park. Reach out to Grant with any questions (grant@crossparkchurch.org).
URL:https://www.crossparkchurch.org/event/mens-prayer-2025-07-19/
LOCATION:Shank Home\, 503 Courtney Lane\, Matthews\, NC\, 28105\, United States
CATEGORIES:Men
ATTACH;FMTTYPE=image/png:https://www.crossparkchurch.org/wp-content/uploads/2024/04/Mens-Ministry-monthly-prayer_third-saturday.png
ORGANIZER;CN="Grant Beachy":MAILTO:grant@crossparkchurch.org
END:VEVENT
BEGIN:VEVENT
DTSTART;TZID=America/New_York:20250720T093000
DTEND;TZID=America/New_York:20250720T110000
DTSTAMP:20260422T123807
CREATED:20250528T123353Z
LAST-MODIFIED:20250528T123353Z
UID:20158-1753003800-1753009200@www.crossparkchurch.org
SUMMARY:IN-PERSON SERVICE @ HEMBY PROGRAM CENTER | YMCA
DESCRIPTION:TIME & LOCATION INFORMATION WITH MAP \nFor more information on what to expect\, please click here. \nBulletin for mobile viewing: Mobile Bulletin\nBulletin for print: Print Bulletin \nTo be notified of updates\, please sign up for our weekly announcements. \nClass Locations for Worship Service – 9:30AM\nNursery (birth-1yo): Magnolia (small room)/4\nNursery (2-3yo): Magnolia (large room)/4\n*Children’s Worship (4-5yo): Maple Cabin/8\n*Children’s Worship (K-1st grade): Poplar Cabin/7\n*Older Children (2nd-5th grade): Stay in service & Sermon Notes \n*The Worship Leader will dismiss the kids to Children’s Worship after Pastoral Prayer.
URL:https://www.crossparkchurch.org/event/sunday-service-summer-schedule-2025/2025-07-20/
LOCATION:Hemby Program Center | YMCA\, 9760 Happy Valley Drive\, Charlotte\, NC\, 28270\, United States
CATEGORIES:Worship
ATTACH;FMTTYPE=image/png:https://www.crossparkchurch.org/wp-content/uploads/2023/01/MISC-Events-1600-×-900-px-1.png
ORGANIZER;CN="Erin":MAILTO:erin@crossparkchurch.org
END:VEVENT
BEGIN:VEVENT
DTSTART;TZID=America/New_York:20250720T110000
DTEND;TZID=America/New_York:20250720T130000
DTSTAMP:20260422T123807
CREATED:20250630T003353Z
LAST-MODIFIED:20250705T160550Z
UID:20325-1753009200-1753016400@www.crossparkchurch.org
SUMMARY:CPC Missions Lunch
DESCRIPTION:Join us on Sunday\, 7/20 immediately after the service in Magnolia for a Cross Park Church Missions Lunch. Come enjoy a casual lunch and fellowship with our CTC Latin America ministry partners! Sub sandwiches will be provided for everyone. Special Guests: Pastor Julio & Olga Chiang from Lima\, Peru (Pastor Julio will also be preaching during the morning service). Join Pastor Julio and his wife Olga for a meet-and-greet lunch as we prepare for our upcoming missions trip to Lima. Where: Magnolia. Please RSVP by Wednesday\, 7/16. Let us know how many from your family will be attending to help us plan for food.
URL:https://www.crossparkchurch.org/event/cpc-missions-lunch-7-20-2025/
LOCATION:Hemby Program Center | YMCA\, 9760 Happy Valley Drive\, Charlotte\, NC\, 28270\, United States
CATEGORIES:Special Events
ATTACH;FMTTYPE=image/png:https://www.crossparkchurch.org/wp-content/uploads/2025/06/720-Chiang-Missions-Lunch-1600-×-900-px.png
ORGANIZER;CN="Erin":MAILTO:erin@crossparkchurch.org
END:VEVENT
BEGIN:VEVENT
DTSTART;TZID=America/New_York:20250727T093000
DTEND;TZID=America/New_York:20250727T110000
DTSTAMP:20260422T123807
CREATED:20250528T123353Z
LAST-MODIFIED:20250528T123353Z
UID:20159-1753608600-1753614000@www.crossparkchurch.org
SUMMARY:IN-PERSON SERVICE @ HEMBY PROGRAM CENTER | YMCA
DESCRIPTION:TIME & LOCATION INFORMATION WITH MAP \nFor more information on what to expect\, please click here. \nBulletin for mobile viewing: Mobile Bulletin\nBulletin for print: Print Bulletin \nTo be notified of updates\, please sign up for our weekly announcements. \nClass Locations for Worship Service – 9:30AM\nNursery (birth-1yo): Magnolia (small room)/4\nNursery (2-3yo): Magnolia (large room)/4\n*Children’s Worship (4-5yo): Maple Cabin/8\n*Children’s Worship (K-1st grade): Poplar Cabin/7\n*Older Children (2nd-5th grade): Stay in service & Sermon Notes \n*The Worship Leader will dismiss the kids to Children’s Worship after Pastoral Prayer.
URL:https://www.crossparkchurch.org/event/sunday-service-summer-schedule-2025/2025-07-27/
LOCATION:Hemby Program Center | YMCA\, 9760 Happy Valley Drive\, Charlotte\, NC\, 28270\, United States
CATEGORIES:Worship
ATTACH;FMTTYPE=image/png:https://www.crossparkchurch.org/wp-content/uploads/2023/01/MISC-Events-1600-×-900-px-1.png
ORGANIZER;CN="Erin":MAILTO:erin@crossparkchurch.org
END:VEVENT
BEGIN:VEVENT
DTSTART;TZID=America/New_York:20250727T110000
DTEND;TZID=America/New_York:20250727T111500
DTSTAMP:20260422T123807
CREATED:20250719T234806Z
LAST-MODIFIED:20250722T150047Z
UID:20370-1753614000-1753614900@www.crossparkchurch.org
SUMMARY:Informational Meeting
DESCRIPTION:The Transition Team wants to invite you to stick around for just 5–10 minutes right after this Sunday’s service for a brief but important update. We’ll be sharing a quick overview and a timeline of what’s coming up in our church’s transition process.
URL:https://www.crossparkchurch.org/event/informational-meeting-with-transition-team/
LOCATION:Hemby Program Center | YMCA\, 9760 Happy Valley Drive\, Charlotte\, NC\, 28270\, United States
CATEGORIES:Special Events
ORGANIZER;CN="Erin":MAILTO:erin@crossparkchurch.org
END:VEVENT
END:VCALENDAR