BEGIN:VCALENDAR
VERSION:2.0
PRODID:-//Cross Park Church - ECPv6.15.20//NONSGML v1.0//EN
CALSCALE:GREGORIAN
METHOD:PUBLISH
X-WR-CALNAME:Cross Park Church
X-ORIGINAL-URL:https://www.crossparkchurch.org
X-WR-CALDESC:Events for Cross Park Church
REFRESH-INTERVAL;VALUE=DURATION:PT1H
X-Robots-Tag:noindex
X-PUBLISHED-TTL:PT1H
BEGIN:VTIMEZONE
TZID:America/New_York
BEGIN:DAYLIGHT
TZOFFSETFROM:-0500
TZOFFSETTO:-0400
TZNAME:EDT
DTSTART:20240310T070000
END:DAYLIGHT
BEGIN:STANDARD
TZOFFSETFROM:-0400
TZOFFSETTO:-0500
TZNAME:EST
DTSTART:20241103T060000
END:STANDARD
BEGIN:DAYLIGHT
TZOFFSETFROM:-0500
TZOFFSETTO:-0400
TZNAME:EDT
DTSTART:20250309T070000
END:DAYLIGHT
BEGIN:STANDARD
TZOFFSETFROM:-0400
TZOFFSETTO:-0500
TZNAME:EST
DTSTART:20251102T060000
END:STANDARD
BEGIN:DAYLIGHT
TZOFFSETFROM:-0500
TZOFFSETTO:-0400
TZNAME:EDT
DTSTART:20260308T070000
END:DAYLIGHT
BEGIN:STANDARD
TZOFFSETFROM:-0400
TZOFFSETTO:-0500
TZNAME:EST
DTSTART:20261101T060000
END:STANDARD
END:VTIMEZONE
BEGIN:VEVENT
DTSTART;TZID=America/New_York:20250803T093000
DTEND;TZID=America/New_York:20250803T110000
DTSTAMP:20260420T183734
CREATED:20250528T123353Z
LAST-MODIFIED:20250528T123353Z
UID:20160-1754213400-1754218800@www.crossparkchurch.org
SUMMARY:IN-PERSON SERVICE @ HEMBY PROGRAM CENTER | YMCA
DESCRIPTION:TIME & LOCATION INFORMATION WITH MAP \nFor more information on what to expect\, please click here. \nBulletin for mobile viewing: Mobile Bulletin\nBulletin for print: Print Bulletin \nTo be notified of updates\, please sign up for our weekly announcements. \nClass Locations for Worship Service – 9:30AM\nNursery (birth-1yo): Magnolia (small room)/4\nNursery (2-3yo): Magnolia (large room)/4\n*Children’s Worship (4-5yo): Maple Cabin/8\n*Children’s Worship (K-1st grade): Poplar Cabin/7\n*Older Children (2nd-5th grade): Stay in service & Sermon Notes \n*The Worship Leader will dismiss the kids to Children’s Worship after Pastoral Prayer.
URL:https://www.crossparkchurch.org/event/sunday-service-summer-schedule-2025/2025-08-03/
LOCATION:Hemby Program Center | YMCA\, 9760 Happy Valley Drive\, Charlotte\, NC\, 28270\, United States
CATEGORIES:Worship
ATTACH;FMTTYPE=image/png:https://www.crossparkchurch.org/wp-content/uploads/2023/01/MISC-Events-1600-×-900-px-1.png
ORGANIZER;CN="Erin":MAILTO:erin@crossparkchurch.org
END:VEVENT
BEGIN:VEVENT
DTSTART;TZID=America/New_York:20250810T083000
DTEND;TZID=America/New_York:20250810T093000
DTSTAMP:20260420T183734
CREATED:20250820T010551Z
LAST-MODIFIED:20250820T194130Z
UID:20501-1754814600-1754818200@www.crossparkchurch.org
SUMMARY:Missions Committee Meeting
DESCRIPTION:Join us for our monthly Missions Committee meeting (in the Willow cabin)! We will discuss the missionaries and church planting partnerships we support\, future planning\, as well as a time of prayer.
URL:https://www.crossparkchurch.org/event/missions-committee-meeting/2025-08-10/
LOCATION:Hemby Program Center | YMCA\, 9760 Happy Valley Drive\, Charlotte\, NC\, 28270\, United States
CATEGORIES:Meetings
ATTACH;FMTTYPE=image/png:https://www.crossparkchurch.org/wp-content/uploads/2025/08/Missions-Committee-1600-×-900-px.png
ORGANIZER;CN="Erin":MAILTO:erin@crossparkchurch.org
END:VEVENT
BEGIN:VEVENT
DTSTART;TZID=America/New_York:20250810T093000
DTEND;TZID=America/New_York:20250810T110000
DTSTAMP:20260420T183734
CREATED:20250528T123353Z
LAST-MODIFIED:20250528T123353Z
UID:20161-1754818200-1754823600@www.crossparkchurch.org
SUMMARY:IN-PERSON SERVICE @ HEMBY PROGRAM CENTER | YMCA
DESCRIPTION:TIME & LOCATION INFORMATION WITH MAP \nFor more information on what to expect\, please click here. \nBulletin for mobile viewing: Mobile Bulletin\nBulletin for print: Print Bulletin \nTo be notified of updates\, please sign up for our weekly announcements. \nClass Locations for Worship Service – 9:30AM\nNursery (birth-1yo): Magnolia (small room)/4\nNursery (2-3yo): Magnolia (large room)/4\n*Children’s Worship (4-5yo): Maple Cabin/8\n*Children’s Worship (K-1st grade): Poplar Cabin/7\n*Older Children (2nd-5th grade): Stay in service & Sermon Notes \n*The Worship Leader will dismiss the kids to Children’s Worship after Pastoral Prayer.
URL:https://www.crossparkchurch.org/event/sunday-service-summer-schedule-2025/2025-08-10/
LOCATION:Hemby Program Center | YMCA\, 9760 Happy Valley Drive\, Charlotte\, NC\, 28270\, United States
CATEGORIES:Worship
ATTACH;FMTTYPE=image/png:https://www.crossparkchurch.org/wp-content/uploads/2023/01/MISC-Events-1600-×-900-px-1.png
ORGANIZER;CN="Erin":MAILTO:erin@crossparkchurch.org
END:VEVENT
BEGIN:VEVENT
DTSTART;TZID=America/New_York:20250812T100000
DTEND;TZID=America/New_York:20250812T113000
DTSTAMP:20260420T183734
CREATED:20250531T160712Z
LAST-MODIFIED:20250730T170459Z
UID:20217-1754992800-1754998200@www.crossparkchurch.org
SUMMARY:Playground Takeover
DESCRIPTION:Let’s play together! Mark your calendar for the following dates this summer. We’ll gather together in the morning to try and beat the heat. Plan to stay for as long or as little as you’d like. Join us for some summer fun at different parks around the city \nPineville Lake Park (and Splashpad)\nTuesday\, August 12\n10 AM
URL:https://www.crossparkchurch.org/event/playground-takeover-8-12-2025/
LOCATION:Pineville Lake Park & Splash Pad\, 909 Lakeview Drive\, Pineville\, NC\, 28134\, United States
CATEGORIES:Children
ATTACH;FMTTYPE=image/png:https://www.crossparkchurch.org/wp-content/uploads/2025/05/812-Plat-at-the-Park-CM-1600-×-900-px.png
END:VEVENT
BEGIN:VEVENT
DTSTART;TZID=America/New_York:20250814T190000
DTEND;TZID=America/New_York:20250814T210000
DTSTAMP:20260420T183734
CREATED:20250603T213743Z
LAST-MODIFIED:20250720T011103Z
UID:20224-1755198000-1755205200@www.crossparkchurch.org
SUMMARY:Women's Summer Book Club
DESCRIPTION:Book Club BONUS ROUND! We enjoyed our time together this summer so much that we are going to extend our season by adding a short book for August\, George MacDonald’s The Princess and the Goblin.  This is an early classic of Christian fantasy literature\, and though it was written for young people\, the story is rich and deep enough to satisfy all readers young and old. The discussion will be held at the Shanks’ house on Thursday\, August 14\, at 7PM. The book club would like to specially invite all the young ladies of our youth group to join us in reading and discussing this one\, if they would like! Any copy of the book can work for our discussion\, and you can even listen to it online on Spotify\, or download a free PDF here. If you are interested in joining in\, please let Wendy know by emailing wkshank62@gmail.com.
URL:https://www.crossparkchurch.org/event/womens-summer-book-club-bonus-round/
LOCATION:Shank Home\, 503 Courtney Lane\, Matthews\, NC\, 28105\, United States
CATEGORIES:Women
ATTACH;FMTTYPE=image/png:https://www.crossparkchurch.org/wp-content/uploads/2025/06/Summer-2025-Womens-Book-Club-1600-×-900-px.png
ORGANIZER;CN="Wendy":MAILTO:wkshank62@gmail.com
END:VEVENT
BEGIN:VEVENT
DTSTART;TZID=America/New_York:20250817T093000
DTEND;TZID=America/New_York:20250817T110000
DTSTAMP:20260420T183734
CREATED:20250528T123353Z
LAST-MODIFIED:20250528T123353Z
UID:20163-1755423000-1755428400@www.crossparkchurch.org
SUMMARY:IN-PERSON SERVICE @ HEMBY PROGRAM CENTER | YMCA
DESCRIPTION:TIME & LOCATION INFORMATION WITH MAP \nFor more information on what to expect\, please click here. \nBulletin for mobile viewing: Mobile Bulletin\nBulletin for print: Print Bulletin \nTo be notified of updates\, please sign up for our weekly announcements. \nClass Locations for Worship Service – 9:30AM\nNursery (birth-1yo): Magnolia (small room)/4\nNursery (2-3yo): Magnolia (large room)/4\n*Children’s Worship (4-5yo): Maple Cabin/8\n*Children’s Worship (K-1st grade): Poplar Cabin/7\n*Older Children (2nd-5th grade): Stay in service & Sermon Notes \n*The Worship Leader will dismiss the kids to Children’s Worship after Pastoral Prayer.
URL:https://www.crossparkchurch.org/event/sunday-service-summer-schedule-2025/2025-08-17/
LOCATION:Hemby Program Center | YMCA\, 9760 Happy Valley Drive\, Charlotte\, NC\, 28270\, United States
CATEGORIES:Worship
ATTACH;FMTTYPE=image/png:https://www.crossparkchurch.org/wp-content/uploads/2023/01/MISC-Events-1600-×-900-px-1.png
ORGANIZER;CN="Erin":MAILTO:erin@crossparkchurch.org
END:VEVENT
BEGIN:VEVENT
DTSTART;TZID=America/New_York:20250819T190000
DTEND;TZID=America/New_York:20250819T210000
DTSTAMP:20260420T183734
CREATED:20250820T193750Z
LAST-MODIFIED:20250820T193750Z
UID:20530-1755630000-1755637200@www.crossparkchurch.org
SUMMARY:Leadership Meeting
DESCRIPTION:
URL:https://www.crossparkchurch.org/event/leadership-meeting/2025-08-19/
LOCATION:NC
CATEGORIES:Meetings
ATTACH;FMTTYPE=image/png:https://www.crossparkchurch.org/wp-content/uploads/2025/08/Leadership-Meeting-1600-×-900-px.png
ORGANIZER;CN="Erin":MAILTO:erin@crossparkchurch.org
END:VEVENT
BEGIN:VEVENT
DTSTART;TZID=America/New_York:20250823T070000
DTEND;TZID=America/New_York:20250823T080000
DTSTAMP:20260420T183734
CREATED:20240430T195248Z
LAST-MODIFIED:20250813T210708Z
UID:18922-1755932400-1755936000@www.crossparkchurch.org
SUMMARY:Men's Prayer (rescheduled from 8/16)
DESCRIPTION:One of the main pieces of feedback from our men’s retreat was more opportunities for the men of Cross Park to be together. We’d like to take advantage of that interest and call us together for monthly prayer. Brothers\, please plan to attend our men’s prayer event the third Saturday of every month from 7-8am. Will meet at the house on Hemby’s campus for 30 minutes of devotional/discussion (following up on the content of the men’s retreat) and 30 minutes of prayer for one another\, the church and our work in the world. Attendance at the men’s retreat is not a prerequisite for coming to this prayer gathering. We’d like to see this happen monthly and for it to become an important part of our corporate life together.\n\nNote: This is not a breakfast\, so you will want to have eaten beforehand and to bring your own coffee. Low on logistics and high on intentional time in the word and prayer together. Reach out to Grant with any questions (grant@crossparkchurch.org).
URL:https://www.crossparkchurch.org/event/mens-prayer-2025-08-16/
LOCATION:Hemby Program Center | YMCA\, 9760 Happy Valley Drive\, Charlotte\, NC\, 28270\, United States
CATEGORIES:Men
ATTACH;FMTTYPE=image/png:https://www.crossparkchurch.org/wp-content/uploads/2024/04/Mens-Ministry-monthly-prayer_third-saturday.png
ORGANIZER;CN="Grant Beachy":MAILTO:grant@crossparkchurch.org
END:VEVENT
BEGIN:VEVENT
DTSTART;TZID=America/New_York:20250824T093000
DTEND;TZID=America/New_York:20250824T110000
DTSTAMP:20260420T183734
CREATED:20250528T123353Z
LAST-MODIFIED:20250528T123353Z
UID:20164-1756027800-1756033200@www.crossparkchurch.org
SUMMARY:IN-PERSON SERVICE @ HEMBY PROGRAM CENTER | YMCA
DESCRIPTION:TIME & LOCATION INFORMATION WITH MAP \nFor more information on what to expect\, please click here. \nBulletin for mobile viewing: Mobile Bulletin\nBulletin for print: Print Bulletin \nTo be notified of updates\, please sign up for our weekly announcements. \nClass Locations for Worship Service – 9:30AM\nNursery (birth-1yo): Magnolia (small room)/4\nNursery (2-3yo): Magnolia (large room)/4\n*Children’s Worship (4-5yo): Maple Cabin/8\n*Children’s Worship (K-1st grade): Poplar Cabin/7\n*Older Children (2nd-5th grade): Stay in service & Sermon Notes \n*The Worship Leader will dismiss the kids to Children’s Worship after Pastoral Prayer.
URL:https://www.crossparkchurch.org/event/sunday-service-summer-schedule-2025/2025-08-24/
LOCATION:Hemby Program Center | YMCA\, 9760 Happy Valley Drive\, Charlotte\, NC\, 28270\, United States
CATEGORIES:Worship
ATTACH;FMTTYPE=image/png:https://www.crossparkchurch.org/wp-content/uploads/2023/01/MISC-Events-1600-×-900-px-1.png
ORGANIZER;CN="Erin":MAILTO:erin@crossparkchurch.org
END:VEVENT
BEGIN:VEVENT
DTSTART;TZID=America/New_York:20250824T110000
DTEND;TZID=America/New_York:20250824T113000
DTSTAMP:20260420T183734
CREATED:20250814T152544Z
LAST-MODIFIED:20250814T152544Z
UID:20476-1756033200-1756035000@www.crossparkchurch.org
SUMMARY:Informational Meeting
DESCRIPTION:Join us for a quick update after worship on Sunday\, 8/24.
URL:https://www.crossparkchurch.org/event/informational-meeting-8-24-2025/
LOCATION:Hemby Program Center | YMCA\, 9760 Happy Valley Drive\, Charlotte\, NC\, 28270\, United States
CATEGORIES:Special Events
ATTACH;FMTTYPE=image/png:https://www.crossparkchurch.org/wp-content/uploads/2025/08/824-Info-Meeting-1600-×-900-px.png
ORGANIZER;CN="Erin":MAILTO:erin@crossparkchurch.org
END:VEVENT
BEGIN:VEVENT
DTSTART;TZID=America/New_York:20250831T093000
DTEND;TZID=America/New_York:20250831T110000
DTSTAMP:20260420T183734
CREATED:20250528T123353Z
LAST-MODIFIED:20250528T123353Z
UID:20165-1756632600-1756638000@www.crossparkchurch.org
SUMMARY:IN-PERSON SERVICE @ HEMBY PROGRAM CENTER | YMCA
DESCRIPTION:TIME & LOCATION INFORMATION WITH MAP \nFor more information on what to expect\, please click here. \nBulletin for mobile viewing: Mobile Bulletin\nBulletin for print: Print Bulletin \nTo be notified of updates\, please sign up for our weekly announcements. \nClass Locations for Worship Service – 9:30AM\nNursery (birth-1yo): Magnolia (small room)/4\nNursery (2-3yo): Magnolia (large room)/4\n*Children’s Worship (4-5yo): Maple Cabin/8\n*Children’s Worship (K-1st grade): Poplar Cabin/7\n*Older Children (2nd-5th grade): Stay in service & Sermon Notes \n*The Worship Leader will dismiss the kids to Children’s Worship after Pastoral Prayer.
URL:https://www.crossparkchurch.org/event/sunday-service-summer-schedule-2025/2025-08-31/
LOCATION:Hemby Program Center | YMCA\, 9760 Happy Valley Drive\, Charlotte\, NC\, 28270\, United States
CATEGORIES:Worship
ATTACH;FMTTYPE=image/png:https://www.crossparkchurch.org/wp-content/uploads/2023/01/MISC-Events-1600-×-900-px-1.png
ORGANIZER;CN="Erin":MAILTO:erin@crossparkchurch.org
END:VEVENT
END:VCALENDAR