BEGIN:VCALENDAR
VERSION:2.0
PRODID:-//Cross Park Church - ECPv6.15.20//NONSGML v1.0//EN
CALSCALE:GREGORIAN
METHOD:PUBLISH
X-ORIGINAL-URL:https://www.crossparkchurch.org
X-WR-CALDESC:Events for Cross Park Church
REFRESH-INTERVAL;VALUE=DURATION:PT1H
X-Robots-Tag:noindex
X-PUBLISHED-TTL:PT1H
BEGIN:VTIMEZONE
TZID:America/New_York
BEGIN:DAYLIGHT
TZOFFSETFROM:-0500
TZOFFSETTO:-0400
TZNAME:EDT
DTSTART:20240310T070000
END:DAYLIGHT
BEGIN:STANDARD
TZOFFSETFROM:-0400
TZOFFSETTO:-0500
TZNAME:EST
DTSTART:20241103T060000
END:STANDARD
BEGIN:DAYLIGHT
TZOFFSETFROM:-0500
TZOFFSETTO:-0400
TZNAME:EDT
DTSTART:20250309T070000
END:DAYLIGHT
BEGIN:STANDARD
TZOFFSETFROM:-0400
TZOFFSETTO:-0500
TZNAME:EST
DTSTART:20251102T060000
END:STANDARD
BEGIN:DAYLIGHT
TZOFFSETFROM:-0500
TZOFFSETTO:-0400
TZNAME:EDT
DTSTART:20260308T070000
END:DAYLIGHT
BEGIN:STANDARD
TZOFFSETFROM:-0400
TZOFFSETTO:-0500
TZNAME:EST
DTSTART:20261101T060000
END:STANDARD
END:VTIMEZONE
BEGIN:VEVENT
DTSTART;TZID=America/New_York:20251203T183000
DTEND;TZID=America/New_York:20251203T200000
DTSTAMP:20260420T110929
CREATED:20250825T144140Z
LAST-MODIFIED:20250825T144140Z
UID:20572-1764786600-1764792000@www.crossparkchurch.org
SUMMARY:345 Club
DESCRIPTION:If you’ve got a 3rd\, 4th\, or 5th grade student\, the 345 Club was created for them! This fall\, our 3rd\, 4th\, and 5th graders will be learning about the God’s Story: Creation\, Fall\, Redemption\, and Restoration. We will meet on the Hemby Campus from 6:30-8PM. Please send your student with a Bible and a water bottle.
URL:https://www.crossparkchurch.org/event/345-club/2025-12-03/
LOCATION:Hemby Program Center | YMCA\, 9760 Happy Valley Drive\, Charlotte\, NC\, 28270\, United States
END:VEVENT
BEGIN:VEVENT
DTSTART;TZID=America/New_York:20251203T183000
DTEND;TZID=America/New_York:20251203T200000
DTSTAMP:20260420T110929
CREATED:20250907T050636Z
LAST-MODIFIED:20251028T142811Z
UID:20770-1764786600-1764792000@www.crossparkchurch.org
SUMMARY:Youth Group
DESCRIPTION:
URL:https://www.crossparkchurch.org/event/youth-group-2025-2026/2025-12-03/
LOCATION:Hemby Program Center | YMCA\, 9760 Happy Valley Drive\, Charlotte\, NC\, 28270\, United States
CATEGORIES:Youth
ATTACH;FMTTYPE=image/png:https://www.crossparkchurch.org/wp-content/uploads/2025/09/Youth-Group-scaled.png
ORGANIZER;CN="Patrick Thatch":MAILTO:youth@crossparkchurch.org
END:VEVENT
BEGIN:VEVENT
DTSTART;TZID=America/New_York:20251206T081500
DTEND;TZID=America/New_York:20251206T085500
DTSTAMP:20260420T110929
CREATED:20250814T150606Z
LAST-MODIFIED:20251201T133324Z
UID:20465-1765008900-1765011300@www.crossparkchurch.org
SUMMARY:Women's Prayer
DESCRIPTION:Cross Park women gather on the first Saturday of each month to pray for the church: pastors\, officers\, ministries\, missions\, and more. Join us on Saturday from 8:15-8:55AM at Hemby (time and location change!). Wendy communicates updates to the group via a text string\, so if anyone wants to join\, please contact Wendy directly at wkshank62@gmail.com or text (704) 614-1887.
URL:https://www.crossparkchurch.org/event/womens-prayer-2025-12-06/
LOCATION:Hemby Program Center | YMCA\, 9760 Happy Valley Drive\, Charlotte\, NC\, 28270\, United States
CATEGORIES:Women
ATTACH;FMTTYPE=image/png:https://www.crossparkchurch.org/wp-content/uploads/2022/01/CPCWM_PRAYER_Web_Events.png
ORGANIZER;CN="Wendy":MAILTO:wkshank62@gmail.com
END:VEVENT
BEGIN:VEVENT
DTSTART;TZID=America/New_York:20251206T180000
DTEND;TZID=America/New_York:20251206T203000
DTSTAMP:20260420T110929
CREATED:20251125T013836Z
LAST-MODIFIED:20251125T013836Z
UID:21111-1765044000-1765053000@www.crossparkchurch.org
SUMMARY:Youth Christmas Party
DESCRIPTION:
URL:https://www.crossparkchurch.org/event/youth-christmas-party-2/
LOCATION:16220 Marvin Road Charlotte\, NC 28277\, 16220 Marvin Road\, Charlotte\, NC\, 28277\, United States
CATEGORIES:Youth
ORGANIZER;CN="Patrick Thatch":MAILTO:youth@crossparkchurch.org
END:VEVENT
BEGIN:VEVENT
DTSTART;TZID=America/New_York:20251207T103000
DTEND;TZID=America/New_York:20251207T120000
DTSTAMP:20260420T110929
CREATED:20250828T131413Z
LAST-MODIFIED:20260116T032829Z
UID:20626-1765103400-1765108800@www.crossparkchurch.org
SUMMARY:IN-PERSON SERVICE @ HEMBY PROGRAM CENTER | YMCA
DESCRIPTION:TIME & LOCATION INFORMATION WITH MAP \nFor more information on what to expect\, please click here. \nBulletin for mobile viewing: Mobile Bulletin\nBulletin for print: Print Bulletin \nTo be notified of updates\, please sign up for our weekly announcements. \n*The Worship Leader will dismiss the kids to Children’s Worship after Pastoral Prayer.
URL:https://www.crossparkchurch.org/event/in-person-service-hemby-program-center-ymca-winter-2025-2026/2025-12-07/
LOCATION:Hemby Program Center | YMCA\, 9760 Happy Valley Drive\, Charlotte\, NC\, 28270\, United States
CATEGORIES:Worship
ATTACH;FMTTYPE=image/png:https://www.crossparkchurch.org/wp-content/uploads/2025/08/202526-Winter-Schedule-1600-×-900-px.png
ORGANIZER;CN="Erin":MAILTO:erin@crossparkchurch.org
END:VEVENT
BEGIN:VEVENT
DTSTART;TZID=America/New_York:20251208T183000
DTEND;TZID=America/New_York:20251208T200000
DTSTAMP:20260420T110929
CREATED:20250820T194030Z
LAST-MODIFIED:20250820T194030Z
UID:20586-1765218600-1765224000@www.crossparkchurch.org
SUMMARY:Session Meeting
DESCRIPTION:
URL:https://www.crossparkchurch.org/event/session-meeting/2025-12-08/
LOCATION:CPC Office\, 11111 Carmel Commons Blvd\, Ste 130\, Charlotte\, NC\, 28226\, United States
CATEGORIES:Meetings
ATTACH;FMTTYPE=image/png:https://www.crossparkchurch.org/wp-content/uploads/2025/08/Session-Meeting-1600-×-900-px.png
ORGANIZER;CN="Grant Beachy":MAILTO:grant@crossparkchurch.org
END:VEVENT
BEGIN:VEVENT
DTSTART;TZID=America/New_York:20251210T183000
DTEND;TZID=America/New_York:20251210T200000
DTSTAMP:20260420T110929
CREATED:20250907T050636Z
LAST-MODIFIED:20251028T142811Z
UID:20771-1765391400-1765396800@www.crossparkchurch.org
SUMMARY:Youth Group
DESCRIPTION:
URL:https://www.crossparkchurch.org/event/youth-group-2025-2026/2025-12-10/
LOCATION:Hemby Program Center | YMCA\, 9760 Happy Valley Drive\, Charlotte\, NC\, 28270\, United States
CATEGORIES:Youth
ATTACH;FMTTYPE=image/png:https://www.crossparkchurch.org/wp-content/uploads/2025/09/Youth-Group-scaled.png
ORGANIZER;CN="Patrick Thatch":MAILTO:youth@crossparkchurch.org
END:VEVENT
BEGIN:VEVENT
DTSTART;TZID=America/New_York:20251214T083000
DTEND;TZID=America/New_York:20251214T093000
DTSTAMP:20260420T110929
CREATED:20250820T010551Z
LAST-MODIFIED:20250820T194131Z
UID:20506-1765701000-1765704600@www.crossparkchurch.org
SUMMARY:Missions Committee Meeting
DESCRIPTION:Join us for our monthly Missions Committee meeting (in the Willow cabin)! We will discuss the missionaries and church planting partnerships we support\, future planning\, as well as a time of prayer.
URL:https://www.crossparkchurch.org/event/missions-committee-meeting/2025-12-14/
LOCATION:Hemby Program Center | YMCA\, 9760 Happy Valley Drive\, Charlotte\, NC\, 28270\, United States
CATEGORIES:Meetings
ATTACH;FMTTYPE=image/png:https://www.crossparkchurch.org/wp-content/uploads/2025/08/Missions-Committee-1600-×-900-px.png
ORGANIZER;CN="Erin":MAILTO:erin@crossparkchurch.org
END:VEVENT
BEGIN:VEVENT
DTSTART;TZID=America/New_York:20251214T103000
DTEND;TZID=America/New_York:20251214T120000
DTSTAMP:20260420T110929
CREATED:20250828T131413Z
LAST-MODIFIED:20260116T032829Z
UID:20627-1765708200-1765713600@www.crossparkchurch.org
SUMMARY:IN-PERSON SERVICE @ HEMBY PROGRAM CENTER | YMCA
DESCRIPTION:TIME & LOCATION INFORMATION WITH MAP \nFor more information on what to expect\, please click here. \nBulletin for mobile viewing: Mobile Bulletin\nBulletin for print: Print Bulletin \nTo be notified of updates\, please sign up for our weekly announcements. \n*The Worship Leader will dismiss the kids to Children’s Worship after Pastoral Prayer.
URL:https://www.crossparkchurch.org/event/in-person-service-hemby-program-center-ymca-winter-2025-2026/2025-12-14/
LOCATION:Hemby Program Center | YMCA\, 9760 Happy Valley Drive\, Charlotte\, NC\, 28270\, United States
CATEGORIES:Worship
ATTACH;FMTTYPE=image/png:https://www.crossparkchurch.org/wp-content/uploads/2025/08/202526-Winter-Schedule-1600-×-900-px.png
ORGANIZER;CN="Erin":MAILTO:erin@crossparkchurch.org
END:VEVENT
BEGIN:VEVENT
DTSTART;TZID=America/New_York:20251214T160000
DTEND;TZID=America/New_York:20251214T180000
DTSTAMP:20260420T110929
CREATED:20251031T153626Z
LAST-MODIFIED:20251212T183410Z
UID:21063-1765728000-1765735200@www.crossparkchurch.org
SUMMARY:Cookies & Carols
DESCRIPTION:Join us for our Cookies & Carols event on Sunday\, 12/14 at 4PM at Hemby Program Center. Sign up to bring desserts now! \nInvite friends\, family and neighbors too! Share this image with anyone you’d like to join us. \nWe will gather indoors in Magnolia so no need to bring your camping chairs unless you have metal folding chairs you’d like to bring.
URL:https://www.crossparkchurch.org/event/cookies-carols-2025/
LOCATION:Hemby Program Center | YMCA\, 9760 Happy Valley Drive\, Charlotte\, NC\, 28270\, United States
CATEGORIES:Special Events
ATTACH;FMTTYPE=image/jpeg:https://www.crossparkchurch.org/wp-content/uploads/2022/11/WM-SUMMER-2022_Web_Events.jpg
ORGANIZER;CN="Erin":MAILTO:erin@crossparkchurch.org
END:VEVENT
BEGIN:VEVENT
DTSTART;TZID=America/New_York:20251217T183000
DTEND;TZID=America/New_York:20251217T200000
DTSTAMP:20260420T110929
CREATED:20250825T144141Z
LAST-MODIFIED:20250825T144141Z
UID:20573-1765996200-1766001600@www.crossparkchurch.org
SUMMARY:345 Club
DESCRIPTION:If you’ve got a 3rd\, 4th\, or 5th grade student\, the 345 Club was created for them! This fall\, our 3rd\, 4th\, and 5th graders will be learning about the God’s Story: Creation\, Fall\, Redemption\, and Restoration. We will meet on the Hemby Campus from 6:30-8PM. Please send your student with a Bible and a water bottle.
URL:https://www.crossparkchurch.org/event/345-club/2025-12-17/
LOCATION:Hemby Program Center | YMCA\, 9760 Happy Valley Drive\, Charlotte\, NC\, 28270\, United States
END:VEVENT
BEGIN:VEVENT
DTSTART;TZID=America/New_York:20251217T183000
DTEND;TZID=America/New_York:20251217T200000
DTSTAMP:20260420T110929
CREATED:20250907T050636Z
LAST-MODIFIED:20251028T142811Z
UID:20772-1765996200-1766001600@www.crossparkchurch.org
SUMMARY:Youth Group
DESCRIPTION:
URL:https://www.crossparkchurch.org/event/youth-group-2025-2026/2025-12-17/
LOCATION:Hemby Program Center | YMCA\, 9760 Happy Valley Drive\, Charlotte\, NC\, 28270\, United States
CATEGORIES:Youth
ATTACH;FMTTYPE=image/png:https://www.crossparkchurch.org/wp-content/uploads/2025/09/Youth-Group-scaled.png
ORGANIZER;CN="Patrick Thatch":MAILTO:youth@crossparkchurch.org
END:VEVENT
BEGIN:VEVENT
DTSTART;TZID=America/New_York:20251220T070000
DTEND;TZID=America/New_York:20251220T080000
DTSTAMP:20260420T110929
CREATED:20240430T195248Z
LAST-MODIFIED:20250908T211913Z
UID:19658-1766214000-1766217600@www.crossparkchurch.org
SUMMARY:Men's Prayer
DESCRIPTION:Brothers\, please plan to attend our men’s prayer event the third Saturday of every month (may change due to other events on the church calendar) from 7-8am. Will meet at the house on Hemby’s campus for 30 minutes of devotional/discussion (following up on the content of the men’s retreat) and 30 minutes of prayer for one another\, the church and our work in the world. Attendance at the men’s retreat is not a prerequisite for coming to this prayer gathering. We’d like to see this happen monthly and for it to become an important part of our corporate life together.\n\nNote: This is not a breakfast\, so you will want to have eaten beforehand and to bring your own coffee. Low on logistics and high on intentional time in the word and prayer together. Reach out to Grant with any questions (grant@crossparkchurch.org).
URL:https://www.crossparkchurch.org/event/mens-prayer-2025-09-20/2025-12-20/
LOCATION:Hemby Program Center | YMCA\, 9760 Happy Valley Drive\, Charlotte\, NC\, 28270\, United States
CATEGORIES:Men
ATTACH;FMTTYPE=image/png:https://www.crossparkchurch.org/wp-content/uploads/2024/04/Mens-Ministry-monthly-prayer_third-saturday.png
ORGANIZER;CN="Grant Beachy":MAILTO:grant@crossparkchurch.org
END:VEVENT
BEGIN:VEVENT
DTSTART;TZID=America/New_York:20251221T103000
DTEND;TZID=America/New_York:20251221T120000
DTSTAMP:20260420T110929
CREATED:20250828T131413Z
LAST-MODIFIED:20260116T032829Z
UID:20628-1766313000-1766318400@www.crossparkchurch.org
SUMMARY:IN-PERSON SERVICE @ HEMBY PROGRAM CENTER | YMCA
DESCRIPTION:TIME & LOCATION INFORMATION WITH MAP \nFor more information on what to expect\, please click here. \nBulletin for mobile viewing: Mobile Bulletin\nBulletin for print: Print Bulletin \nTo be notified of updates\, please sign up for our weekly announcements. \n*The Worship Leader will dismiss the kids to Children’s Worship after Pastoral Prayer.
URL:https://www.crossparkchurch.org/event/in-person-service-hemby-program-center-ymca-winter-2025-2026/2025-12-21/
LOCATION:Hemby Program Center | YMCA\, 9760 Happy Valley Drive\, Charlotte\, NC\, 28270\, United States
CATEGORIES:Worship
ATTACH;FMTTYPE=image/png:https://www.crossparkchurch.org/wp-content/uploads/2025/08/202526-Winter-Schedule-1600-×-900-px.png
ORGANIZER;CN="Erin":MAILTO:erin@crossparkchurch.org
END:VEVENT
BEGIN:VEVENT
DTSTART;TZID=America/New_York:20251228T103000
DTEND;TZID=America/New_York:20251228T120000
DTSTAMP:20260420T110929
CREATED:20250828T131413Z
LAST-MODIFIED:20260116T032829Z
UID:20629-1766917800-1766923200@www.crossparkchurch.org
SUMMARY:IN-PERSON SERVICE @ HEMBY PROGRAM CENTER | YMCA
DESCRIPTION:TIME & LOCATION INFORMATION WITH MAP \nFor more information on what to expect\, please click here. \nBulletin for mobile viewing: Mobile Bulletin\nBulletin for print: Print Bulletin \nTo be notified of updates\, please sign up for our weekly announcements. \n*The Worship Leader will dismiss the kids to Children’s Worship after Pastoral Prayer.
URL:https://www.crossparkchurch.org/event/in-person-service-hemby-program-center-ymca-winter-2025-2026/2025-12-28/
LOCATION:Hemby Program Center | YMCA\, 9760 Happy Valley Drive\, Charlotte\, NC\, 28270\, United States
CATEGORIES:Worship
ATTACH;FMTTYPE=image/png:https://www.crossparkchurch.org/wp-content/uploads/2025/08/202526-Winter-Schedule-1600-×-900-px.png
ORGANIZER;CN="Erin":MAILTO:erin@crossparkchurch.org
END:VEVENT
END:VCALENDAR