BEGIN:VCALENDAR
VERSION:2.0
PRODID:-//Cross Park Church - ECPv6.15.20//NONSGML v1.0//EN
CALSCALE:GREGORIAN
METHOD:PUBLISH
X-ORIGINAL-URL:https://www.crossparkchurch.org
X-WR-CALDESC:Events for Cross Park Church
REFRESH-INTERVAL;VALUE=DURATION:PT1H
X-Robots-Tag:noindex
X-PUBLISHED-TTL:PT1H
BEGIN:VTIMEZONE
TZID:America/New_York
BEGIN:DAYLIGHT
TZOFFSETFROM:-0500
TZOFFSETTO:-0400
TZNAME:EDT
DTSTART:20240310T070000
END:DAYLIGHT
BEGIN:STANDARD
TZOFFSETFROM:-0400
TZOFFSETTO:-0500
TZNAME:EST
DTSTART:20241103T060000
END:STANDARD
BEGIN:DAYLIGHT
TZOFFSETFROM:-0500
TZOFFSETTO:-0400
TZNAME:EDT
DTSTART:20250309T070000
END:DAYLIGHT
BEGIN:STANDARD
TZOFFSETFROM:-0400
TZOFFSETTO:-0500
TZNAME:EST
DTSTART:20251102T060000
END:STANDARD
BEGIN:DAYLIGHT
TZOFFSETFROM:-0500
TZOFFSETTO:-0400
TZNAME:EDT
DTSTART:20260308T070000
END:DAYLIGHT
BEGIN:STANDARD
TZOFFSETFROM:-0400
TZOFFSETTO:-0500
TZNAME:EST
DTSTART:20261101T060000
END:STANDARD
END:VTIMEZONE
BEGIN:VEVENT
DTSTART;TZID=America/New_York:20250511T093000
DTEND;TZID=America/New_York:20250511T101500
DTSTAMP:20260422T151843
CREATED:20241026T135843Z
LAST-MODIFIED:20241026T135858Z
UID:19452-1746955800-1746958500@www.crossparkchurch.org
SUMMARY:SUNDAY SCHOOL
DESCRIPTION:Adult Spring Sunday School\nTBA \nSunday School for all ages will begin at our Spring Kick Off on Sunday 3/2/2025 at 9:30AM. \nClass Locations for Sunday School\nNursery (birth-3yo): Magnolia (small room)/4\nYoung Children (4-1st grade): Maple Cabin/8\nOlder Children (2nd-5th grade): Poplar Cabin/7\nYouth: Magnolia (large room)/4\nAdults: Sycamore/5
URL:https://www.crossparkchurch.org/event/sunday-school-spring-2025/2025-05-11/
LOCATION:Hemby Program Center | YMCA\, 9760 Happy Valley Drive\, Charlotte\, NC\, 28270\, United States
CATEGORIES:Worship
ATTACH;FMTTYPE=image/png:https://www.crossparkchurch.org/wp-content/uploads/2023/01/MISC-Events-1600-×-900-px.png
ORGANIZER;CN="Erin":MAILTO:erin@crossparkchurch.org
END:VEVENT
BEGIN:VEVENT
DTSTART;TZID=America/New_York:20250511T103000
DTEND;TZID=America/New_York:20250511T120000
DTSTAMP:20260422T151843
CREATED:20241026T140140Z
LAST-MODIFIED:20241026T140207Z
UID:19478-1746959400-1746964800@www.crossparkchurch.org
SUMMARY:IN-PERSON SERVICE @ HEMBY PROGRAM CENTER | YMCA
DESCRIPTION:TIME & LOCATION INFORMATION WITH MAP \nFor more information on what to expect\, please click here. \nBulletin for mobile viewing: Mobile Bulletin\nBulletin for print: Print Bulletin \nTo be notified of updates\, please sign up for our weekly announcements. \nClass Locations for Worship Service – 10:30AM\nNursery (birth-1yo): Magnolia (small room)/4\nNursery (2-3yo): Magnolia (large room)/4\n*Children’s Worship (4-5yo): Maple Cabin/8\n*Children’s Worship (K-1st grade): Poplar Cabin/7\n*Older Children (2nd-5th grade): Stay in service & Sermon Notes \n*The Worship Leader will dismiss the kids to Children’s Worship after Pastoral Prayer.
URL:https://www.crossparkchurch.org/event/in-person-service-hemby-program-center-ymca-spring-2025/2025-05-11/
LOCATION:Hemby Program Center | YMCA\, 9760 Happy Valley Drive\, Charlotte\, NC\, 28270\, United States
CATEGORIES:Worship
ATTACH;FMTTYPE=image/png:https://www.crossparkchurch.org/wp-content/uploads/2022/01/MISC-Events-1600-×-900-px-3.png
ORGANIZER;CN="Erin":MAILTO:erin@crossparkchurch.org
END:VEVENT
BEGIN:VEVENT
DTSTART;TZID=America/New_York:20250514T183000
DTEND;TZID=America/New_York:20250514T200000
DTSTAMP:20260422T151843
CREATED:20241021T195410Z
LAST-MODIFIED:20241021T213451Z
UID:19365-1747247400-1747252800@www.crossparkchurch.org
SUMMARY:Youth Group
DESCRIPTION:Join us for Youth Group as we continue to hear stories of redemption from various Cross Park members. Come hear the redeemed of the LORD say so! Psalm 107:2
URL:https://www.crossparkchurch.org/event/youth-group-2024-2025/2025-05-14/
LOCATION:Hemby Program Center | YMCA\, 9760 Happy Valley Drive\, Charlotte\, NC\, 28270\, United States
CATEGORIES:Youth
ATTACH;FMTTYPE=image/jpeg:https://www.crossparkchurch.org/wp-content/uploads/2023/12/Youth-Group-Website-1-scaled.jpg
END:VEVENT
BEGIN:VEVENT
DTSTART;TZID=America/New_York:20250517T070000
DTEND;TZID=America/New_York:20250517T080000
DTSTAMP:20260422T151843
CREATED:20240430T195248Z
LAST-MODIFIED:20240430T195248Z
UID:18580-1747465200-1747468800@www.crossparkchurch.org
SUMMARY:Men's Prayer
DESCRIPTION:One of the main pieces of feedback from our men’s retreat was more opportunities for the men of Cross Park to be together. We’d like to take advantage of that interest and call us together for monthly prayer. Brothers\, please plan to attend our men’s prayer event the third Saturday of every month from 7-8am. Will meet at the house on Hemby’s campus for 30 minutes of devotional/discussion (following up on the content of the men’s retreat) and 30 minutes of prayer for one another\, the church and our work in the world. Attendance at the men’s retreat is not a prerequisite for coming to this prayer gathering. We’d like to see this happen monthly and for it to become an important part of our corporate life together.\n\nNote: This is not a breakfast\, so you will want to have eaten beforehand and to bring your own coffee. Low on logistics and high on intentional time in the word and prayer together. Reach out to Grant with any questions (grant@crossparkchurch.org).
URL:https://www.crossparkchurch.org/event/mens-prayer/2025-05-17/
LOCATION:Hemby Program Center | YMCA\, 9760 Happy Valley Drive\, Charlotte\, NC\, 28270\, United States
CATEGORIES:Men
ATTACH;FMTTYPE=image/png:https://www.crossparkchurch.org/wp-content/uploads/2024/04/Mens-Ministry-monthly-prayer_third-saturday.png
ORGANIZER;CN="Grant Beachy":MAILTO:grant@crossparkchurch.org
END:VEVENT
END:VCALENDAR