BEGIN:VCALENDAR
VERSION:2.0
PRODID:-//Cross Park Church - ECPv6.15.20//NONSGML v1.0//EN
CALSCALE:GREGORIAN
METHOD:PUBLISH
X-WR-CALNAME:Cross Park Church
X-ORIGINAL-URL:https://www.crossparkchurch.org
X-WR-CALDESC:Events for Cross Park Church
REFRESH-INTERVAL;VALUE=DURATION:PT1H
X-Robots-Tag:noindex
X-PUBLISHED-TTL:PT1H
BEGIN:VTIMEZONE
TZID:America/New_York
BEGIN:DAYLIGHT
TZOFFSETFROM:-0500
TZOFFSETTO:-0400
TZNAME:EDT
DTSTART:20240310T070000
END:DAYLIGHT
BEGIN:STANDARD
TZOFFSETFROM:-0400
TZOFFSETTO:-0500
TZNAME:EST
DTSTART:20241103T060000
END:STANDARD
BEGIN:DAYLIGHT
TZOFFSETFROM:-0500
TZOFFSETTO:-0400
TZNAME:EDT
DTSTART:20250309T070000
END:DAYLIGHT
BEGIN:STANDARD
TZOFFSETFROM:-0400
TZOFFSETTO:-0500
TZNAME:EST
DTSTART:20251102T060000
END:STANDARD
BEGIN:DAYLIGHT
TZOFFSETFROM:-0500
TZOFFSETTO:-0400
TZNAME:EDT
DTSTART:20260308T070000
END:DAYLIGHT
BEGIN:STANDARD
TZOFFSETFROM:-0400
TZOFFSETTO:-0500
TZNAME:EST
DTSTART:20261101T060000
END:STANDARD
END:VTIMEZONE
BEGIN:VEVENT
DTSTART;TZID=America/New_York:20250831T093000
DTEND;TZID=America/New_York:20250831T110000
DTSTAMP:20260420T183747
CREATED:20250528T123353Z
LAST-MODIFIED:20250528T123353Z
UID:20165-1756632600-1756638000@www.crossparkchurch.org
SUMMARY:IN-PERSON SERVICE @ HEMBY PROGRAM CENTER | YMCA
DESCRIPTION:TIME & LOCATION INFORMATION WITH MAP \nFor more information on what to expect\, please click here. \nBulletin for mobile viewing: Mobile Bulletin\nBulletin for print: Print Bulletin \nTo be notified of updates\, please sign up for our weekly announcements. \nClass Locations for Worship Service – 9:30AM\nNursery (birth-1yo): Magnolia (small room)/4\nNursery (2-3yo): Magnolia (large room)/4\n*Children’s Worship (4-5yo): Maple Cabin/8\n*Children’s Worship (K-1st grade): Poplar Cabin/7\n*Older Children (2nd-5th grade): Stay in service & Sermon Notes \n*The Worship Leader will dismiss the kids to Children’s Worship after Pastoral Prayer.
URL:https://www.crossparkchurch.org/event/sunday-service-summer-schedule-2025/2025-08-31/
LOCATION:Hemby Program Center | YMCA\, 9760 Happy Valley Drive\, Charlotte\, NC\, 28270\, United States
CATEGORIES:Worship
ATTACH;FMTTYPE=image/png:https://www.crossparkchurch.org/wp-content/uploads/2023/01/MISC-Events-1600-×-900-px-1.png
ORGANIZER;CN="Erin":MAILTO:erin@crossparkchurch.org
END:VEVENT
BEGIN:VEVENT
DTSTART;TZID=America/New_York:20250906T093000
DTEND;TZID=America/New_York:20250906T110000
DTSTAMP:20260420T183747
CREATED:20250814T150606Z
LAST-MODIFIED:20250830T190815Z
UID:20462-1757151000-1757156400@www.crossparkchurch.org
SUMMARY:Women's Ministry Fall Kick-off Breakfast
DESCRIPTION:Women\, come and share breakfast together at the Shank home (503 Courtney Lane\, Matthews) \, then hear all about our plans for Fall women’s Bible studies\, which will start up mid-September. A short time of prayer together for one another and for Cross Park will follow\, kicking off our first-Saturdays women’s prayer meetings for the year. See you at 9:30AM! RSVP and bring an item to share!
URL:https://www.crossparkchurch.org/event/womens-prayer/
LOCATION:Shank Home\, 503 Courtney Lane\, Matthews\, NC\, 28105\, United States
CATEGORIES:Women
ATTACH;FMTTYPE=image/png:https://www.crossparkchurch.org/wp-content/uploads/2025/08/Womens-Fall-Kickoff-1600-×-900-px.png
ORGANIZER;CN="Wendy":MAILTO:wkshank62@gmail.com
END:VEVENT
END:VCALENDAR