BEGIN:VCALENDAR
VERSION:2.0
PRODID:-//Cross Park Church - ECPv6.15.20//NONSGML v1.0//EN
CALSCALE:GREGORIAN
METHOD:PUBLISH
X-WR-CALNAME:Cross Park Church
X-ORIGINAL-URL:https://www.crossparkchurch.org
X-WR-CALDESC:Events for Cross Park Church
REFRESH-INTERVAL;VALUE=DURATION:PT1H
X-Robots-Tag:noindex
X-PUBLISHED-TTL:PT1H
BEGIN:VTIMEZONE
TZID:America/New_York
BEGIN:DAYLIGHT
TZOFFSETFROM:-0500
TZOFFSETTO:-0400
TZNAME:EDT
DTSTART:20240310T070000
END:DAYLIGHT
BEGIN:STANDARD
TZOFFSETFROM:-0400
TZOFFSETTO:-0500
TZNAME:EST
DTSTART:20241103T060000
END:STANDARD
BEGIN:DAYLIGHT
TZOFFSETFROM:-0500
TZOFFSETTO:-0400
TZNAME:EDT
DTSTART:20250309T070000
END:DAYLIGHT
BEGIN:STANDARD
TZOFFSETFROM:-0400
TZOFFSETTO:-0500
TZNAME:EST
DTSTART:20251102T060000
END:STANDARD
BEGIN:DAYLIGHT
TZOFFSETFROM:-0500
TZOFFSETTO:-0400
TZNAME:EDT
DTSTART:20260308T070000
END:DAYLIGHT
BEGIN:STANDARD
TZOFFSETFROM:-0400
TZOFFSETTO:-0500
TZNAME:EST
DTSTART:20261101T060000
END:STANDARD
END:VTIMEZONE
BEGIN:VEVENT
DTSTART;TZID=America/New_York:20250907T093000
DTEND;TZID=America/New_York:20250907T101500
DTSTAMP:20260422T083036
CREATED:20250828T130815Z
LAST-MODIFIED:20250830T194808Z
UID:20611-1757237400-1757240100@www.crossparkchurch.org
SUMMARY:Fellowship: Season of Connection & Prayer
DESCRIPTION:Every Sunday of the month will be set aside to focus on one particular group of people while those who aren’t in the spotlight that week gather to catch up\, let kids run free on the playground/field\, and enjoy a cup of coffee. \n\n1st Sunday: Women\n2nd Sunday: Men\n3rd Sunday: Children & Youth\n4th Sunday: Potluck/simple breakfast\, everyone together
URL:https://www.crossparkchurch.org/event/fellowship-season-of-connection-prayer-fall-2025/2025-09-07/
LOCATION:Hemby Program Center | YMCA\, 9760 Happy Valley Drive\, Charlotte\, NC\, 28270\, United States
CATEGORIES:Special Events
ATTACH;FMTTYPE=image/png:https://www.crossparkchurch.org/wp-content/uploads/2025/08/Fall-2025-Season-of-connection-and-prayer-Schedules-1600-×-900-px.png
ORGANIZER;CN="Erin":MAILTO:erin@crossparkchurch.org
END:VEVENT
BEGIN:VEVENT
DTSTART;TZID=America/New_York:20250907T103000
DTEND;TZID=America/New_York:20250907T120000
DTSTAMP:20260422T083036
CREATED:20250814T150309Z
LAST-MODIFIED:20250814T150309Z
UID:20448-1757241000-1757246400@www.crossparkchurch.org
SUMMARY:IN-PERSON SERVICE @ HEMBY PROGRAM CENTER | YMCA
DESCRIPTION:TIME & LOCATION INFORMATION WITH MAP \nFor more information on what to expect\, please click here. \nBulletin for mobile viewing: Mobile Bulletin\nBulletin for print: Print Bulletin \nTo be notified of updates\, please sign up for our weekly announcements. \nClass Locations for Worship Service – 10:30AM\nNursery (birth-1yo): Magnolia (small room)/4\nNursery (2-3yo): Magnolia (large room)/4\n*Children’s Worship (4-5yo): Maple Cabin/8\n*Children’s Worship (K-1st grade): Poplar Cabin/7\n*Older Children (2nd-5th grade): Stay in service & Sermon Notes \n*The Worship Leader will dismiss the kids to Children’s Worship after Pastoral Prayer.
URL:https://www.crossparkchurch.org/event/in-person-service-hemby-program-center-ymca-fall-2025/2025-09-07/
LOCATION:Hemby Program Center | YMCA\, 9760 Happy Valley Drive\, Charlotte\, NC\, 28270\, United States
CATEGORIES:Worship
ATTACH;FMTTYPE=image/png:https://www.crossparkchurch.org/wp-content/uploads/2024/08/Fall-Worship-Schedule.png
ORGANIZER;CN="Erin":MAILTO:erin@crossparkchurch.org
END:VEVENT
BEGIN:VEVENT
DTSTART;TZID=America/New_York:20250907T120000
DTEND;TZID=America/New_York:20250907T123000
DTSTAMP:20260422T083036
CREATED:20250814T152441Z
LAST-MODIFIED:20250814T152441Z
UID:20472-1757246400-1757248200@www.crossparkchurch.org
SUMMARY:Fall Kick-Off
DESCRIPTION:Join us for a Fall Preview Snack immediately following the Sunday worship service on 9/7. Light brunch snacks will be served where you’re invited to make a plate and head back to your seat to listen to what is happening in the life of our church this fall. We will be sharing information about the new fall schedule\, upcoming sermon series\, fellowship and prayer opportunities during the usual Sunday School hour\, Thrive Groups\, and more. Come hear what’s coming your way and ways to get involved.
URL:https://www.crossparkchurch.org/event/fall-kick-off/
LOCATION:Hemby Program Center | YMCA\, 9760 Happy Valley Drive\, Charlotte\, NC\, 28270\, United States
CATEGORIES:Special Events
ATTACH;FMTTYPE=image/png:https://www.crossparkchurch.org/wp-content/uploads/2025/08/Fall-Kick-Off-Snacks-1600-×-900-px-2.png
ORGANIZER;CN="Erin":MAILTO:erin@crossparkchurch.org
END:VEVENT
BEGIN:VEVENT
DTSTART;TZID=America/New_York:20250908T183000
DTEND;TZID=America/New_York:20250908T200000
DTSTAMP:20260422T083036
CREATED:20250820T194030Z
LAST-MODIFIED:20250825T185649Z
UID:20536-1757356200-1757361600@www.crossparkchurch.org
SUMMARY:Session Meeting
DESCRIPTION:
URL:https://www.crossparkchurch.org/event/session-meeting/2025-09-08/
LOCATION:CPC Office\, 11111 Carmel Commons Blvd\, Ste 130\, Charlotte\, NC\, 28226\, United States
CATEGORIES:Meetings
ATTACH;FMTTYPE=image/png:https://www.crossparkchurch.org/wp-content/uploads/2025/08/Session-Meeting-1600-×-900-px.png
ORGANIZER;CN="Grant Beachy":MAILTO:grant@crossparkchurch.org
END:VEVENT
BEGIN:VEVENT
DTSTART;TZID=America/New_York:20250910T183000
DTEND;TZID=America/New_York:20250910T200000
DTSTAMP:20260422T083036
CREATED:20250907T050636Z
LAST-MODIFIED:20251028T142810Z
UID:20760-1757529000-1757534400@www.crossparkchurch.org
SUMMARY:Youth Group
DESCRIPTION:
URL:https://www.crossparkchurch.org/event/youth-group-2025-2026/2025-09-10/
LOCATION:Hemby Program Center | YMCA\, 9760 Happy Valley Drive\, Charlotte\, NC\, 28270\, United States
CATEGORIES:Youth
ATTACH;FMTTYPE=image/png:https://www.crossparkchurch.org/wp-content/uploads/2025/09/Youth-Group-scaled.png
ORGANIZER;CN="Patrick Thatch":MAILTO:youth@crossparkchurch.org
END:VEVENT
END:VCALENDAR