BEGIN:VCALENDAR
VERSION:2.0
PRODID:-//Cross Park Church - ECPv6.15.20//NONSGML v1.0//EN
CALSCALE:GREGORIAN
METHOD:PUBLISH
X-ORIGINAL-URL:https://www.crossparkchurch.org
X-WR-CALDESC:Events for Cross Park Church
REFRESH-INTERVAL;VALUE=DURATION:PT1H
X-Robots-Tag:noindex
X-PUBLISHED-TTL:PT1H
BEGIN:VTIMEZONE
TZID:America/New_York
BEGIN:DAYLIGHT
TZOFFSETFROM:-0500
TZOFFSETTO:-0400
TZNAME:EDT
DTSTART:20240310T070000
END:DAYLIGHT
BEGIN:STANDARD
TZOFFSETFROM:-0400
TZOFFSETTO:-0500
TZNAME:EST
DTSTART:20241103T060000
END:STANDARD
BEGIN:DAYLIGHT
TZOFFSETFROM:-0500
TZOFFSETTO:-0400
TZNAME:EDT
DTSTART:20250309T070000
END:DAYLIGHT
BEGIN:STANDARD
TZOFFSETFROM:-0400
TZOFFSETTO:-0500
TZNAME:EST
DTSTART:20251102T060000
END:STANDARD
BEGIN:DAYLIGHT
TZOFFSETFROM:-0500
TZOFFSETTO:-0400
TZNAME:EDT
DTSTART:20260308T070000
END:DAYLIGHT
BEGIN:STANDARD
TZOFFSETFROM:-0400
TZOFFSETTO:-0500
TZNAME:EST
DTSTART:20261101T060000
END:STANDARD
END:VTIMEZONE
BEGIN:VEVENT
DTSTART;TZID=America/New_York:20250928T093000
DTEND;TZID=America/New_York:20250928T101500
DTSTAMP:20260420T165910
CREATED:20250828T130815Z
LAST-MODIFIED:20250908T150053Z
UID:20615-1759051800-1759054500@www.crossparkchurch.org
SUMMARY:Fellowship: Season of Connection & Prayer
DESCRIPTION:Every Sunday of the month will be set aside to focus on one particular group of people while those who aren’t in the spotlight that week gather to catch up\, let kids run free on the playground/field\, and enjoy a cup of coffee. \n\n1st Sunday: Women\n2nd Sunday: Men\n3rd Sunday: Children & Youth\n4th Sunday: Potluck/simple breakfast\, everyone together SIGN UP HERE
URL:https://www.crossparkchurch.org/event/fellowship-season-of-connection-prayer-fall-2025-2025-09-28/
LOCATION:Hemby Program Center | YMCA\, 9760 Happy Valley Drive\, Charlotte\, NC\, 28270\, United States
CATEGORIES:Special Events
ATTACH;FMTTYPE=image/png:https://www.crossparkchurch.org/wp-content/uploads/2025/08/Fall-2025-Season-of-connection-and-prayer-Schedules-1600-×-900-px.png
ORGANIZER;CN="Erin":MAILTO:erin@crossparkchurch.org
END:VEVENT
BEGIN:VEVENT
DTSTART;TZID=America/New_York:20250928T103000
DTEND;TZID=America/New_York:20250928T120000
DTSTAMP:20260420T165910
CREATED:20250814T150309Z
LAST-MODIFIED:20250814T150309Z
UID:20451-1759055400-1759060800@www.crossparkchurch.org
SUMMARY:IN-PERSON SERVICE @ HEMBY PROGRAM CENTER | YMCA
DESCRIPTION:TIME & LOCATION INFORMATION WITH MAP \nFor more information on what to expect\, please click here. \nBulletin for mobile viewing: Mobile Bulletin\nBulletin for print: Print Bulletin \nTo be notified of updates\, please sign up for our weekly announcements. \nClass Locations for Worship Service – 10:30AM\nNursery (birth-1yo): Magnolia (small room)/4\nNursery (2-3yo): Magnolia (large room)/4\n*Children’s Worship (4-5yo): Maple Cabin/8\n*Children’s Worship (K-1st grade): Poplar Cabin/7\n*Older Children (2nd-5th grade): Stay in service & Sermon Notes \n*The Worship Leader will dismiss the kids to Children’s Worship after Pastoral Prayer.
URL:https://www.crossparkchurch.org/event/in-person-service-hemby-program-center-ymca-fall-2025/2025-09-28/
LOCATION:Hemby Program Center | YMCA\, 9760 Happy Valley Drive\, Charlotte\, NC\, 28270\, United States
CATEGORIES:Worship
ATTACH;FMTTYPE=image/png:https://www.crossparkchurch.org/wp-content/uploads/2024/08/Fall-Worship-Schedule.png
ORGANIZER;CN="Erin":MAILTO:erin@crossparkchurch.org
END:VEVENT
BEGIN:VEVENT
DTSTART;TZID=America/New_York:20250928T120000
DTEND;TZID=America/New_York:20250928T130000
DTSTAMP:20260420T165910
CREATED:20250908T213305Z
LAST-MODIFIED:20250917T225108Z
UID:20927-1759060800-1759064400@www.crossparkchurch.org
SUMMARY:Informational Meeting
DESCRIPTION:The Transition Team invited MGI to return to Cross Park on Sunday\, September 28 to share their findings and to host a Q&A session with our congregation. The information presented during that time will be released following the meeting\, but we encourage everyone to plan to attend. In preparation for the MGI congressional meeting\, we want to encourage everyone to pray for humility\, unity\, wisdom\, and openness to hear and consider the feedback our church receives.
URL:https://www.crossparkchurch.org/event/informational-meeting-september-2025/
LOCATION:Hemby Program Center | YMCA\, 9760 Happy Valley Drive\, Charlotte\, NC\, 28270\, United States
CATEGORIES:Special Events
ATTACH;FMTTYPE=image/png:https://www.crossparkchurch.org/wp-content/uploads/2025/09/9282025-Info-Meeting-Childcare-Provided-1600-×-900-px.png
ORGANIZER;CN="Erin":MAILTO:erin@crossparkchurch.org
END:VEVENT
BEGIN:VEVENT
DTSTART;TZID=America/New_York:20251001T183000
DTEND;TZID=America/New_York:20251001T200000
DTSTAMP:20260420T165910
CREATED:20250825T144140Z
LAST-MODIFIED:20250825T144140Z
UID:20568-1759343400-1759348800@www.crossparkchurch.org
SUMMARY:345 Club
DESCRIPTION:If you’ve got a 3rd\, 4th\, or 5th grade student\, the 345 Club was created for them! This fall\, our 3rd\, 4th\, and 5th graders will be learning about the God’s Story: Creation\, Fall\, Redemption\, and Restoration. We will meet on the Hemby Campus from 6:30-8PM. Please send your student with a Bible and a water bottle.
URL:https://www.crossparkchurch.org/event/345-club/2025-10-01/
LOCATION:Hemby Program Center | YMCA\, 9760 Happy Valley Drive\, Charlotte\, NC\, 28270\, United States
END:VEVENT
BEGIN:VEVENT
DTSTART;TZID=America/New_York:20251001T183000
DTEND;TZID=America/New_York:20251001T200000
DTSTAMP:20260420T165910
CREATED:20250907T050636Z
LAST-MODIFIED:20251028T142811Z
UID:20764-1759343400-1759348800@www.crossparkchurch.org
SUMMARY:Youth Group
DESCRIPTION:
URL:https://www.crossparkchurch.org/event/youth-group-2025-2026/2025-10-01/
LOCATION:Hemby Program Center | YMCA\, 9760 Happy Valley Drive\, Charlotte\, NC\, 28270\, United States
CATEGORIES:Youth
ATTACH;FMTTYPE=image/png:https://www.crossparkchurch.org/wp-content/uploads/2025/09/Youth-Group-scaled.png
ORGANIZER;CN="Patrick Thatch":MAILTO:youth@crossparkchurch.org
END:VEVENT
BEGIN:VEVENT
DTSTART;TZID=America/New_York:20251004T090000
DTEND;TZID=America/New_York:20251004T101500
DTSTAMP:20260420T165910
CREATED:20250814T150606Z
LAST-MODIFIED:20250919T011201Z
UID:20463-1759568400-1759572900@www.crossparkchurch.org
SUMMARY:Women's Prayer
DESCRIPTION:Cross Park women gather on the first Saturday of each month to pray for the church: pastors\, officers\, ministries\, missions\, and more.  Join us on Saturday from 9-10:15AM at the Clarke’s home (1124 Ashley Creek Drive\, Matthews 28105 – please park on our side of the street or driveway)\, with potential for zoom-joining if someone needs that. Wendy communicates updates to the group via a text string\, so if anyone wants to join\, please contact Wendy directly at wkshank62@gmail.com or text (704) 614-1887.
URL:https://www.crossparkchurch.org/event/womens-prayer-2025-10-04/
LOCATION:1124 Ashley Creek Drive\, Matthews 28105.  And please park on our side of the street or driveway\, 1124 Ashley Creek Drive\, Matthews\, 28105\, United States
CATEGORIES:Women
ATTACH;FMTTYPE=image/png:https://www.crossparkchurch.org/wp-content/uploads/2022/01/CPCWM_PRAYER_Web_Events.png
ORGANIZER;CN="Wendy":MAILTO:wkshank62@gmail.com
END:VEVENT
END:VCALENDAR