BEGIN:VCALENDAR
VERSION:2.0
PRODID:-//Cross Park Church - ECPv6.15.20//NONSGML v1.0//EN
CALSCALE:GREGORIAN
METHOD:PUBLISH
X-WR-CALNAME:Cross Park Church
X-ORIGINAL-URL:https://www.crossparkchurch.org
X-WR-CALDESC:Events for Cross Park Church
REFRESH-INTERVAL;VALUE=DURATION:PT1H
X-Robots-Tag:noindex
X-PUBLISHED-TTL:PT1H
BEGIN:VTIMEZONE
TZID:America/New_York
BEGIN:DAYLIGHT
TZOFFSETFROM:-0500
TZOFFSETTO:-0400
TZNAME:EDT
DTSTART:20240310T070000
END:DAYLIGHT
BEGIN:STANDARD
TZOFFSETFROM:-0400
TZOFFSETTO:-0500
TZNAME:EST
DTSTART:20241103T060000
END:STANDARD
BEGIN:DAYLIGHT
TZOFFSETFROM:-0500
TZOFFSETTO:-0400
TZNAME:EDT
DTSTART:20250309T070000
END:DAYLIGHT
BEGIN:STANDARD
TZOFFSETFROM:-0400
TZOFFSETTO:-0500
TZNAME:EST
DTSTART:20251102T060000
END:STANDARD
BEGIN:DAYLIGHT
TZOFFSETFROM:-0500
TZOFFSETTO:-0400
TZNAME:EDT
DTSTART:20260308T070000
END:DAYLIGHT
BEGIN:STANDARD
TZOFFSETFROM:-0400
TZOFFSETTO:-0500
TZNAME:EST
DTSTART:20261101T060000
END:STANDARD
END:VTIMEZONE
BEGIN:VEVENT
DTSTART;TZID=America/New_York:20251130T103000
DTEND;TZID=America/New_York:20251130T120000
DTSTAMP:20260420T123225
CREATED:20250814T150309Z
LAST-MODIFIED:20250814T150309Z
UID:20461-1764498600-1764504000@www.crossparkchurch.org
SUMMARY:IN-PERSON SERVICE @ HEMBY PROGRAM CENTER | YMCA
DESCRIPTION:TIME & LOCATION INFORMATION WITH MAP \nFor more information on what to expect\, please click here. \nBulletin for mobile viewing: Mobile Bulletin\nBulletin for print: Print Bulletin \nTo be notified of updates\, please sign up for our weekly announcements. \nClass Locations for Worship Service – 10:30AM\nNursery (birth-1yo): Magnolia (small room)/4\nNursery (2-3yo): Magnolia (large room)/4\n*Children’s Worship (4-5yo): Maple Cabin/8\n*Children’s Worship (K-1st grade): Poplar Cabin/7\n*Older Children (2nd-5th grade): Stay in service & Sermon Notes \n*The Worship Leader will dismiss the kids to Children’s Worship after Pastoral Prayer.
URL:https://www.crossparkchurch.org/event/in-person-service-hemby-program-center-ymca-fall-2025/2025-11-30/
LOCATION:Hemby Program Center | YMCA\, 9760 Happy Valley Drive\, Charlotte\, NC\, 28270\, United States
CATEGORIES:Worship
ATTACH;FMTTYPE=image/png:https://www.crossparkchurch.org/wp-content/uploads/2024/08/Fall-Worship-Schedule.png
ORGANIZER;CN="Erin":MAILTO:erin@crossparkchurch.org
END:VEVENT
BEGIN:VEVENT
DTSTART;TZID=America/New_York:20251203T183000
DTEND;TZID=America/New_York:20251203T200000
DTSTAMP:20260420T123225
CREATED:20250825T144140Z
LAST-MODIFIED:20250825T144140Z
UID:20572-1764786600-1764792000@www.crossparkchurch.org
SUMMARY:345 Club
DESCRIPTION:If you’ve got a 3rd\, 4th\, or 5th grade student\, the 345 Club was created for them! This fall\, our 3rd\, 4th\, and 5th graders will be learning about the God’s Story: Creation\, Fall\, Redemption\, and Restoration. We will meet on the Hemby Campus from 6:30-8PM. Please send your student with a Bible and a water bottle.
URL:https://www.crossparkchurch.org/event/345-club/2025-12-03/
LOCATION:Hemby Program Center | YMCA\, 9760 Happy Valley Drive\, Charlotte\, NC\, 28270\, United States
END:VEVENT
BEGIN:VEVENT
DTSTART;TZID=America/New_York:20251203T183000
DTEND;TZID=America/New_York:20251203T200000
DTSTAMP:20260420T123225
CREATED:20250907T050636Z
LAST-MODIFIED:20251028T142811Z
UID:20770-1764786600-1764792000@www.crossparkchurch.org
SUMMARY:Youth Group
DESCRIPTION:
URL:https://www.crossparkchurch.org/event/youth-group-2025-2026/2025-12-03/
LOCATION:Hemby Program Center | YMCA\, 9760 Happy Valley Drive\, Charlotte\, NC\, 28270\, United States
CATEGORIES:Youth
ATTACH;FMTTYPE=image/png:https://www.crossparkchurch.org/wp-content/uploads/2025/09/Youth-Group-scaled.png
ORGANIZER;CN="Patrick Thatch":MAILTO:youth@crossparkchurch.org
END:VEVENT
BEGIN:VEVENT
DTSTART;TZID=America/New_York:20251206T081500
DTEND;TZID=America/New_York:20251206T085500
DTSTAMP:20260420T123225
CREATED:20250814T150606Z
LAST-MODIFIED:20251201T133324Z
UID:20465-1765008900-1765011300@www.crossparkchurch.org
SUMMARY:Women's Prayer
DESCRIPTION:Cross Park women gather on the first Saturday of each month to pray for the church: pastors\, officers\, ministries\, missions\, and more. Join us on Saturday from 8:15-8:55AM at Hemby (time and location change!). Wendy communicates updates to the group via a text string\, so if anyone wants to join\, please contact Wendy directly at wkshank62@gmail.com or text (704) 614-1887.
URL:https://www.crossparkchurch.org/event/womens-prayer-2025-12-06/
LOCATION:Hemby Program Center | YMCA\, 9760 Happy Valley Drive\, Charlotte\, NC\, 28270\, United States
CATEGORIES:Women
ATTACH;FMTTYPE=image/png:https://www.crossparkchurch.org/wp-content/uploads/2022/01/CPCWM_PRAYER_Web_Events.png
ORGANIZER;CN="Wendy":MAILTO:wkshank62@gmail.com
END:VEVENT
BEGIN:VEVENT
DTSTART;TZID=America/New_York:20251206T180000
DTEND;TZID=America/New_York:20251206T203000
DTSTAMP:20260420T123225
CREATED:20251125T013836Z
LAST-MODIFIED:20251125T013836Z
UID:21111-1765044000-1765053000@www.crossparkchurch.org
SUMMARY:Youth Christmas Party
DESCRIPTION:
URL:https://www.crossparkchurch.org/event/youth-christmas-party-2/
LOCATION:16220 Marvin Road Charlotte\, NC 28277\, 16220 Marvin Road\, Charlotte\, NC\, 28277\, United States
CATEGORIES:Youth
ORGANIZER;CN="Patrick Thatch":MAILTO:youth@crossparkchurch.org
END:VEVENT
END:VCALENDAR