BEGIN:VCALENDAR
VERSION:2.0
PRODID:-//Cross Park Church - ECPv6.15.20//NONSGML v1.0//EN
CALSCALE:GREGORIAN
METHOD:PUBLISH
X-ORIGINAL-URL:https://www.crossparkchurch.org
X-WR-CALDESC:Events for Cross Park Church
REFRESH-INTERVAL;VALUE=DURATION:PT1H
X-Robots-Tag:noindex
X-PUBLISHED-TTL:PT1H
BEGIN:VTIMEZONE
TZID:America/New_York
BEGIN:DAYLIGHT
TZOFFSETFROM:-0500
TZOFFSETTO:-0400
TZNAME:EDT
DTSTART:20250309T070000
END:DAYLIGHT
BEGIN:STANDARD
TZOFFSETFROM:-0400
TZOFFSETTO:-0500
TZNAME:EST
DTSTART:20251102T060000
END:STANDARD
BEGIN:DAYLIGHT
TZOFFSETFROM:-0500
TZOFFSETTO:-0400
TZNAME:EDT
DTSTART:20260308T070000
END:DAYLIGHT
BEGIN:STANDARD
TZOFFSETFROM:-0400
TZOFFSETTO:-0500
TZNAME:EST
DTSTART:20261101T060000
END:STANDARD
BEGIN:DAYLIGHT
TZOFFSETFROM:-0500
TZOFFSETTO:-0400
TZNAME:EDT
DTSTART:20270314T070000
END:DAYLIGHT
BEGIN:STANDARD
TZOFFSETFROM:-0400
TZOFFSETTO:-0500
TZNAME:EST
DTSTART:20271107T060000
END:STANDARD
END:VTIMEZONE
BEGIN:VEVENT
DTSTART;TZID=America/New_York:20260118T103000
DTEND;TZID=America/New_York:20260118T120000
DTSTAMP:20260420T173844
CREATED:20250828T131413Z
LAST-MODIFIED:20260116T033106Z
UID:20632-1768732200-1768737600@www.crossparkchurch.org
SUMMARY:IN-PERSON SERVICE @ HEMBY PROGRAM CENTER | YMCA
DESCRIPTION:Join us today at Hemby Program Center at 10:30AM for our Family Worship Service; no nursery or Children’s Worship this Sunday. We will gather INDOORS this morning in Sycamore (not Magnolia); no need to bring chairs! \nBulletin for mobile viewing: Mobile Bulletin\nBulletin for print: Print Bulletin\nLivestream \nTo be notified of updates\, please sign up for our weekly announcements. \n*No childcare this Sunday\, 1/18
URL:https://www.crossparkchurch.org/event/in-person-service-hemby-program-center-ymca-winter-2025-2026-2026-01-18/
LOCATION:Hemby Program Center | YMCA\, 9760 Happy Valley Drive\, Charlotte\, NC\, 28270\, United States
CATEGORIES:Worship
ATTACH;FMTTYPE=image/png:https://www.crossparkchurch.org/wp-content/uploads/2025/08/118-Sunday-Family-Worship-Service-Sycamore_1600-×-900-px.png
ORGANIZER;CN="Erin":MAILTO:erin@crossparkchurch.org
END:VEVENT
BEGIN:VEVENT
DTSTART;TZID=America/New_York:20260121T183000
DTEND;TZID=America/New_York:20260121T200000
DTSTAMP:20260420T173844
CREATED:20250907T050636Z
LAST-MODIFIED:20251028T142818Z
UID:20784-1769020200-1769025600@www.crossparkchurch.org
SUMMARY:Youth Group
DESCRIPTION:
URL:https://www.crossparkchurch.org/event/youth-group-2025-2026/2026-01-21/
LOCATION:Hemby Program Center | YMCA\, 9760 Happy Valley Drive\, Charlotte\, NC\, 28270\, United States
CATEGORIES:Youth
ATTACH;FMTTYPE=image/png:https://www.crossparkchurch.org/wp-content/uploads/2025/09/Youth-Group-scaled.png
ORGANIZER;CN="Patrick Thatch":MAILTO:youth@crossparkchurch.org
END:VEVENT
END:VCALENDAR