BEGIN:VCALENDAR
VERSION:2.0
PRODID:-//Cross Park Church - ECPv6.15.20//NONSGML v1.0//EN
CALSCALE:GREGORIAN
METHOD:PUBLISH
X-WR-CALNAME:Cross Park Church
X-ORIGINAL-URL:https://www.crossparkchurch.org
X-WR-CALDESC:Events for Cross Park Church
REFRESH-INTERVAL;VALUE=DURATION:PT1H
X-Robots-Tag:noindex
X-PUBLISHED-TTL:PT1H
BEGIN:VTIMEZONE
TZID:America/New_York
BEGIN:DAYLIGHT
TZOFFSETFROM:-0500
TZOFFSETTO:-0400
TZNAME:EDT
DTSTART:20250309T070000
END:DAYLIGHT
BEGIN:STANDARD
TZOFFSETFROM:-0400
TZOFFSETTO:-0500
TZNAME:EST
DTSTART:20251102T060000
END:STANDARD
BEGIN:DAYLIGHT
TZOFFSETFROM:-0500
TZOFFSETTO:-0400
TZNAME:EDT
DTSTART:20260308T070000
END:DAYLIGHT
BEGIN:STANDARD
TZOFFSETFROM:-0400
TZOFFSETTO:-0500
TZNAME:EST
DTSTART:20261101T060000
END:STANDARD
BEGIN:DAYLIGHT
TZOFFSETFROM:-0500
TZOFFSETTO:-0400
TZNAME:EDT
DTSTART:20270314T070000
END:DAYLIGHT
BEGIN:STANDARD
TZOFFSETFROM:-0400
TZOFFSETTO:-0500
TZNAME:EST
DTSTART:20271107T060000
END:STANDARD
END:VTIMEZONE
BEGIN:VEVENT
DTSTART;TZID=America/New_York:20260608T183000
DTEND;TZID=America/New_York:20260608T200000
DTSTAMP:20260420T080532
CREATED:20250820T194030Z
LAST-MODIFIED:20250820T194030Z
UID:20592-1780943400-1780948800@www.crossparkchurch.org
SUMMARY:Session Meeting
DESCRIPTION:
URL:https://www.crossparkchurch.org/event/session-meeting/2026-06-08/
LOCATION:CPC Office\, 11111 Carmel Commons Blvd\, Ste 130\, Charlotte\, NC\, 28226\, United States
CATEGORIES:Meetings
ATTACH;FMTTYPE=image/png:https://www.crossparkchurch.org/wp-content/uploads/2025/08/Session-Meeting-1600-×-900-px.png
ORGANIZER;CN="Grant Beachy":MAILTO:grant@crossparkchurch.org
END:VEVENT
END:VCALENDAR