BEGIN:VCALENDAR
VERSION:2.0
PRODID:-//Cross Park Church - ECPv6.15.20//NONSGML v1.0//EN
CALSCALE:GREGORIAN
METHOD:PUBLISH
X-ORIGINAL-URL:https://www.crossparkchurch.org
X-WR-CALDESC:Events for Cross Park Church
REFRESH-INTERVAL;VALUE=DURATION:PT1H
X-Robots-Tag:noindex
X-PUBLISHED-TTL:PT1H
BEGIN:VTIMEZONE
TZID:America/New_York
BEGIN:DAYLIGHT
TZOFFSETFROM:-0500
TZOFFSETTO:-0400
TZNAME:EDT
DTSTART:20210314T070000
END:DAYLIGHT
BEGIN:STANDARD
TZOFFSETFROM:-0400
TZOFFSETTO:-0500
TZNAME:EST
DTSTART:20211107T060000
END:STANDARD
BEGIN:DAYLIGHT
TZOFFSETFROM:-0500
TZOFFSETTO:-0400
TZNAME:EDT
DTSTART:20220313T070000
END:DAYLIGHT
BEGIN:STANDARD
TZOFFSETFROM:-0400
TZOFFSETTO:-0500
TZNAME:EST
DTSTART:20221106T060000
END:STANDARD
BEGIN:DAYLIGHT
TZOFFSETFROM:-0500
TZOFFSETTO:-0400
TZNAME:EDT
DTSTART:20230312T070000
END:DAYLIGHT
BEGIN:STANDARD
TZOFFSETFROM:-0400
TZOFFSETTO:-0500
TZNAME:EST
DTSTART:20231105T060000
END:STANDARD
END:VTIMEZONE
BEGIN:VEVENT
DTSTART;TZID=America/New_York:20220113T183000
DTEND;TZID=America/New_York:20220113T203000
DTSTAMP:20260425T104450
CREATED:20220112T144907Z
LAST-MODIFIED:20220112T145606Z
UID:13408-1642098600-1642105800@www.crossparkchurch.org
SUMMARY:Service Project @ Hemby (Painting)
DESCRIPTION:DATES:\nWednesday\, 1/12 6:30-8:30PM\nThursday\, 1/13 6:30-8:30PM \nBring whatever painting supplies you have! Cross Park will provide paint\, tape and roller refills. Come ready to beautify our shared spaces! \nHelpful items to bring: brushes\, paint trays\, drop cloths\, rollers\, roller extension pole\, etc.\nAge restrictions: Adults only please (older kids allowed WITH adult supervision at all times).\nVolunteer Contact: Ginny Schmidt\, (704) 293-6507 \nSIGN UP HERE!
URL:https://www.crossparkchurch.org/event/service-project-hemby-painting-2/
LOCATION:Hemby Program Center | YMCA\, 9760 Happy Valley Drive\, Charlotte\, NC\, 28270\, United States
CATEGORIES:Special Events
ATTACH;FMTTYPE=image/png:https://www.crossparkchurch.org/wp-content/uploads/2022/01/MISC-Events-2.png
ORGANIZER;CN="Ginny Schmidt":MAILTO:ginnyschmidt@gmail.com
END:VEVENT
BEGIN:VEVENT
DTSTART;TZID=America/New_York:20220112T183000
DTEND;TZID=America/New_York:20220112T203000
DTSTAMP:20260425T104450
CREATED:20220112T144744Z
LAST-MODIFIED:20220112T144744Z
UID:13406-1642012200-1642019400@www.crossparkchurch.org
SUMMARY:Service Project @ Hemby (Painting)
DESCRIPTION:DATES:\nWednesday\, 1/12 6:30-8:30PM\nThursday\, 1/13 6:30-8:30PM \nBring whatever painting supplies you have! Cross Park will provide paint\, tape and roller refills. Come ready to beautify our shared spaces! \nHelpful items to bring: brushes\, paint trays\, drop cloths\, rollers\, roller extension pole\, etc.\nAge restrictions: Adults only please (older kids allowed WITH adult supervision at all times).\nVolunteer Contact: Ginny Schmidt\, (704) 293-6507 \nSIGN UP HERE!
URL:https://www.crossparkchurch.org/event/service-project-hemby-painting/
LOCATION:Hemby Program Center | YMCA\, 9760 Happy Valley Drive\, Charlotte\, NC\, 28270\, United States
CATEGORIES:Special Events
ATTACH;FMTTYPE=image/png:https://www.crossparkchurch.org/wp-content/uploads/2022/01/MISC-Events-2.png
ORGANIZER;CN="Ginny Schmidt":MAILTO:ginnyschmidt@gmail.com
END:VEVENT
END:VCALENDAR