BEGIN:VCALENDAR
VERSION:2.0
PRODID:-//Cross Park Church - ECPv6.15.20//NONSGML v1.0//EN
CALSCALE:GREGORIAN
METHOD:PUBLISH
X-ORIGINAL-URL:https://www.crossparkchurch.org
X-WR-CALDESC:Events for Cross Park Church
REFRESH-INTERVAL;VALUE=DURATION:PT1H
X-Robots-Tag:noindex
X-PUBLISHED-TTL:PT1H
BEGIN:VTIMEZONE
TZID:America/New_York
BEGIN:DAYLIGHT
TZOFFSETFROM:-0500
TZOFFSETTO:-0400
TZNAME:EDT
DTSTART:20230312T070000
END:DAYLIGHT
BEGIN:STANDARD
TZOFFSETFROM:-0400
TZOFFSETTO:-0500
TZNAME:EST
DTSTART:20231105T060000
END:STANDARD
BEGIN:DAYLIGHT
TZOFFSETFROM:-0500
TZOFFSETTO:-0400
TZNAME:EDT
DTSTART:20240310T070000
END:DAYLIGHT
BEGIN:STANDARD
TZOFFSETFROM:-0400
TZOFFSETTO:-0500
TZNAME:EST
DTSTART:20241103T060000
END:STANDARD
BEGIN:DAYLIGHT
TZOFFSETFROM:-0500
TZOFFSETTO:-0400
TZNAME:EDT
DTSTART:20250309T070000
END:DAYLIGHT
BEGIN:STANDARD
TZOFFSETFROM:-0400
TZOFFSETTO:-0500
TZNAME:EST
DTSTART:20251102T060000
END:STANDARD
END:VTIMEZONE
BEGIN:VEVENT
DTSTART;TZID=America/New_York:20241016T183000
DTEND;TZID=America/New_York:20241016T200000
DTSTAMP:20260420T164837
CREATED:20241009T185933Z
LAST-MODIFIED:20241009T190014Z
UID:19195-1729103400-1729108800@www.crossparkchurch.org
SUMMARY:Hemby Work Date
DESCRIPTION:Parents of Youth and 345Club\nOn Wednesday evening\, 10/16 when you deliver your youngsters to Hemby\, plan to stay and help with some chores. We need helping hands to assemble the heaters and to do some maintenance on our plastic curtains. Contact Larry Shank if you can help – shanklarry@gmail.com 704-309-7837.
URL:https://www.crossparkchurch.org/event/service-opportunity-10-16-2024/
LOCATION:Hemby Program Center | YMCA\, 9760 Happy Valley Drive\, Charlotte\, NC\, 28270\, United States
CATEGORIES:Special Events
ATTACH;FMTTYPE=image/png:https://www.crossparkchurch.org/wp-content/uploads/2024/06/Volunteer-Opportunity-1600-×-900-px.png
ORGANIZER;CN="Larry Shank":MAILTO:shanklarry@gmail.com
END:VEVENT
BEGIN:VEVENT
DTSTART;TZID=America/New_York:20240914T080000
DTEND;TZID=America/New_York:20240914T120000
DTSTAMP:20260420T164837
CREATED:20240907T183659Z
LAST-MODIFIED:20240907T183659Z
UID:19056-1726300800-1726315200@www.crossparkchurch.org
SUMMARY:Service Opportunity
DESCRIPTION:We are planning a work day at Hemby for Saturday\, 9/14 to work on several projects. We will continue to assemble and install cabinetry in the Willow Cabin (our new hospitality spot)\, and in Magnolia (to add needed storage for our Children’s Ministry). Other projects\, depending on turnout\, involve getting some things ready for fall/winter:\n1. Re-assembling our heaters which have been in storage for the summer\n2. Repairs to our side curtains\nWe’ll start at 8AM. Let Larry Shank know by email if you can be there for any portion of the day. shanklarry@gmail.com
URL:https://www.crossparkchurch.org/event/service-opportunity-9-14-2024/
LOCATION:Hemby Program Center | YMCA\, 9760 Happy Valley Drive\, Charlotte\, NC\, 28270\, United States
CATEGORIES:Special Events
ATTACH;FMTTYPE=image/png:https://www.crossparkchurch.org/wp-content/uploads/2024/06/Volunteer-Opportunity-1600-×-900-px.png
ORGANIZER;CN="Larry Shank":MAILTO:shanklarry@gmail.com
END:VEVENT
END:VCALENDAR