BEGIN:VCALENDAR
VERSION:2.0
PRODID:-//Cross Park Church - ECPv6.15.20//NONSGML v1.0//EN
CALSCALE:GREGORIAN
METHOD:PUBLISH
X-WR-CALNAME:Cross Park Church
X-ORIGINAL-URL:https://www.crossparkchurch.org
X-WR-CALDESC:Events for Cross Park Church
REFRESH-INTERVAL;VALUE=DURATION:PT1H
X-Robots-Tag:noindex
X-PUBLISHED-TTL:PT1H
BEGIN:VTIMEZONE
TZID:America/New_York
BEGIN:DAYLIGHT
TZOFFSETFROM:-0500
TZOFFSETTO:-0400
TZNAME:EDT
DTSTART:20210314T070000
END:DAYLIGHT
BEGIN:STANDARD
TZOFFSETFROM:-0400
TZOFFSETTO:-0500
TZNAME:EST
DTSTART:20211107T060000
END:STANDARD
BEGIN:DAYLIGHT
TZOFFSETFROM:-0500
TZOFFSETTO:-0400
TZNAME:EDT
DTSTART:20220313T070000
END:DAYLIGHT
BEGIN:STANDARD
TZOFFSETFROM:-0400
TZOFFSETTO:-0500
TZNAME:EST
DTSTART:20221106T060000
END:STANDARD
BEGIN:DAYLIGHT
TZOFFSETFROM:-0500
TZOFFSETTO:-0400
TZNAME:EDT
DTSTART:20230312T070000
END:DAYLIGHT
BEGIN:STANDARD
TZOFFSETFROM:-0400
TZOFFSETTO:-0500
TZNAME:EST
DTSTART:20231105T060000
END:STANDARD
BEGIN:DAYLIGHT
TZOFFSETFROM:-0500
TZOFFSETTO:-0400
TZNAME:EDT
DTSTART:20240310T070000
END:DAYLIGHT
BEGIN:STANDARD
TZOFFSETFROM:-0400
TZOFFSETTO:-0500
TZNAME:EST
DTSTART:20241103T060000
END:STANDARD
BEGIN:DAYLIGHT
TZOFFSETFROM:-0500
TZOFFSETTO:-0400
TZNAME:EDT
DTSTART:20250309T070000
END:DAYLIGHT
BEGIN:STANDARD
TZOFFSETFROM:-0400
TZOFFSETTO:-0500
TZNAME:EST
DTSTART:20251102T060000
END:STANDARD
BEGIN:DAYLIGHT
TZOFFSETFROM:-0500
TZOFFSETTO:-0400
TZNAME:EDT
DTSTART:20260308T070000
END:DAYLIGHT
BEGIN:STANDARD
TZOFFSETFROM:-0400
TZOFFSETTO:-0500
TZNAME:EST
DTSTART:20261101T060000
END:STANDARD
END:VTIMEZONE
BEGIN:VEVENT
DTSTART;TZID=America/New_York:20250202T140000
DTEND;TZID=America/New_York:20250202T173000
DTSTAMP:20260422T082820
CREATED:20241206T145639Z
LAST-MODIFIED:20241206T145639Z
UID:19626-1738504800-1738517400@www.crossparkchurch.org
SUMMARY:Alongside Families Training
DESCRIPTION:We all need a community of support\, especially when life is overwhelming. Alongside Families helps isolated parents to get back on their feet during hard times by providing short-term care for their children through volunteer host families in local\, partner churches. Alongside Families gives parents space to address their situation without the fear of losing custody of their children and builds lasting relationships for families in crisis so that they can thrive within gospel-centered communities. \nJoin us for Alongside Families’ Foundations Training on Sunday\, February 2 from 2:00-5:30PM in Magnolia (Hemby) to learn more about how you and your family can be involved and be equipped to start serving your neighbors in Charlotte now! REGISTRATION
URL:https://www.crossparkchurch.org/event/alongside-families-training-feb-2025/
LOCATION:Hemby Program Center | YMCA\, 9760 Happy Valley Drive\, Charlotte\, NC\, 28270\, United States
CATEGORIES:Special Events
ATTACH;FMTTYPE=image/png:https://www.crossparkchurch.org/wp-content/uploads/2023/10/AF-Logo_Full-Color_Vert-1.png
ORGANIZER;CN="Michelle Clarke":MAILTO:6sharparrows@gmail.com
END:VEVENT
BEGIN:VEVENT
DTSTART;TZID=America/New_York:20231105T140000
DTEND;TZID=America/New_York:20231105T180000
DTSTAMP:20260422T082820
CREATED:20231006T020546Z
LAST-MODIFIED:20231026T144232Z
UID:17523-1699192800-1699207200@www.crossparkchurch.org
SUMMARY:Alongside Families Training
DESCRIPTION:We all need a community of support\, especially when life is overwhelming. Alongside Families helps isolated parents to get back on their feet during hard times by providing short-term care for their children through volunteer host families in local\, partner churches. Alongside Families gives parents space to address their situation without the fear of losing custody of their children and builds lasting relationships for families in crisis so that they can thrive within gospel-centered communities. \nJoin us for Alongside Families’ Foundations Training on Sunday\, 11/5 from 2-6PM in Magnolia (Hemby) to learn more about how you and your family can be involved and be equipped to start serving your neighbors in Charlotte now! REGISTRATION
URL:https://www.crossparkchurch.org/event/alongside-families-training-2023/
LOCATION:Hemby Program Center | YMCA\, 9760 Happy Valley Drive\, Charlotte\, NC\, 28270\, United States
CATEGORIES:Special Events
ATTACH;FMTTYPE=image/png:https://www.crossparkchurch.org/wp-content/uploads/2023/10/AF-Logo_Full-Color_Vert-1.png
ORGANIZER;CN="Michelle Clarke":MAILTO:6sharparrows@gmail.com
END:VEVENT
BEGIN:VEVENT
DTSTART;VALUE=DATE:20231009
DTEND;VALUE=DATE:20231010
DTSTAMP:20260422T082820
CREATED:20231004T150535Z
LAST-MODIFIED:20231006T020244Z
UID:17511-1696809600-1696895999@www.crossparkchurch.org
SUMMARY:Alongside Families Informational Meeting
DESCRIPTION:What if…\n* we could stop child abuse and neglect before it starts?\n* children could be kept safe during times of family crisis without unnecessarily entering the foster care system?\n* it was a dignifying experience for parents to request and receive help?\n* parents were connected to support instead of socially isolated?\n* the Body of Christ stood in the gap for family preservation?\nAlongside Families exists to connect isolated families in the Carolinas to local church communities that champion family preservation and physical\, spiritual\, and emotional thriving. Cross Park Church families! Find out how YOU can join the team and help isolated families in Charlotte thrive in the gospel. Register to join one of two upcoming Zoom information meetings on Monday\, 10/9 from 12-1PMor Monday\, 10/9 from 7-8PM. Joining the meeting will not automatically commit you to serve\, but it will open up a window for you to see how you might be able to! Please feel free to reach out to Michelle Clarke (704-771-0273 or 6sharparrows@gmail.com) with any questions.
URL:https://www.crossparkchurch.org/event/alongside-families-informational-meeting/
LOCATION:Zoom
CATEGORIES:Special Events
ATTACH;FMTTYPE=image/png:https://www.crossparkchurch.org/wp-content/uploads/2023/10/AF-Logo_Full-Color_Vert-1.png
ORGANIZER;CN="Michelle Clarke":MAILTO:6sharparrows@gmail.com
END:VEVENT
BEGIN:VEVENT
DTSTART;TZID=America/New_York:20221105T090000
DTEND;TZID=America/New_York:20221105T101500
DTSTAMP:20260422T082820
CREATED:20220111T163215Z
LAST-MODIFIED:20221021T121406Z
UID:14827-1667638800-1667643300@www.crossparkchurch.org
SUMMARY:Women's Prayer Gathering - New Location This Month
DESCRIPTION:Women’s Prayer Gathering\nCross Park women gather on the first Saturday of each month to pray for the church: pastors\, officers\, ministries\, missions\, and more.  Join us on Saturday from 9-10:15AM at the Clarke’s house (1124 Ashley Creek Drive\, Matthews 28105)\, with potential for zoom-joining if someone needs that. Michelle is hosting this month so please email her at 6sharparrows@gmail.com to stay up to date on any last minute changes
URL:https://www.crossparkchurch.org/event/womens-prayer-gathering-2022-2022-08-06-2022-11-05/
CATEGORIES:Women
ATTACH;FMTTYPE=image/jpeg:https://www.crossparkchurch.org/wp-content/uploads/2022/01/Woman-Praying.jpg
ORGANIZER;CN="Michelle Clarke":MAILTO:6sharparrows@gmail.com
END:VEVENT
END:VCALENDAR