BEGIN:VCALENDAR
VERSION:2.0
PRODID:-//Cross Park Church - ECPv6.15.20//NONSGML v1.0//EN
CALSCALE:GREGORIAN
METHOD:PUBLISH
X-ORIGINAL-URL:https://www.crossparkchurch.org
X-WR-CALDESC:Events for Cross Park Church
REFRESH-INTERVAL;VALUE=DURATION:PT1H
X-Robots-Tag:noindex
X-PUBLISHED-TTL:PT1H
BEGIN:VTIMEZONE
TZID:America/New_York
BEGIN:DAYLIGHT
TZOFFSETFROM:-0500
TZOFFSETTO:-0400
TZNAME:EDT
DTSTART:20220313T070000
END:DAYLIGHT
BEGIN:STANDARD
TZOFFSETFROM:-0400
TZOFFSETTO:-0500
TZNAME:EST
DTSTART:20221106T060000
END:STANDARD
BEGIN:DAYLIGHT
TZOFFSETFROM:-0500
TZOFFSETTO:-0400
TZNAME:EDT
DTSTART:20230312T070000
END:DAYLIGHT
BEGIN:STANDARD
TZOFFSETFROM:-0400
TZOFFSETTO:-0500
TZNAME:EST
DTSTART:20231105T060000
END:STANDARD
BEGIN:DAYLIGHT
TZOFFSETFROM:-0500
TZOFFSETTO:-0400
TZNAME:EDT
DTSTART:20240310T070000
END:DAYLIGHT
BEGIN:STANDARD
TZOFFSETFROM:-0400
TZOFFSETTO:-0500
TZNAME:EST
DTSTART:20241103T060000
END:STANDARD
END:VTIMEZONE
BEGIN:VEVENT
DTSTART;TZID=America/New_York:20230628T190000
DTEND;TZID=America/New_York:20230628T210000
DTSTAMP:20260420T113753
CREATED:20230615T020925Z
LAST-MODIFIED:20230615T021353Z
UID:16928-1687978800-1687986000@www.crossparkchurch.org
SUMMARY:Youth Group Event Nights - Mini Golf
DESCRIPTION:Come join us on 6/28 from 7-9PM for fellowship and fun as we sail the high seas looking for treasure at High Seas Miniature Golf. Cost per person is $8 (12 and under) and $10 (13 and older) which includes unlimited golf games. Bring extra $ if you want drinks or ice cream. If you plan to come let Sunny Green know via text (704-608-7415) by 6/25. Also\, we are planning to carpool if anyone is interested so let Sunny know that as well and she will send you the details. Looking forward to an evening of fun!
URL:https://www.crossparkchurch.org/event/youth-group-event-nights-mini-golf/
LOCATION:High Seas Miniature Golf\, 10001 Charlotte Hwy\, Fort Mill\, SC\, 29707
CATEGORIES:Youth
ATTACH;FMTTYPE=image/png:https://www.crossparkchurch.org/wp-content/uploads/2022/08/MISC-Events-1600-×-900-px.png
END:VEVENT
END:VCALENDAR