BEGIN:VCALENDAR
VERSION:2.0
PRODID:-//Cross Park Church - ECPv6.15.20//NONSGML v1.0//EN
CALSCALE:GREGORIAN
METHOD:PUBLISH
X-WR-CALNAME:Cross Park Church
X-ORIGINAL-URL:https://www.crossparkchurch.org
X-WR-CALDESC:Events for Cross Park Church
REFRESH-INTERVAL;VALUE=DURATION:PT1H
X-Robots-Tag:noindex
X-PUBLISHED-TTL:PT1H
BEGIN:VTIMEZONE
TZID:America/New_York
BEGIN:DAYLIGHT
TZOFFSETFROM:-0500
TZOFFSETTO:-0400
TZNAME:EDT
DTSTART:20210314T070000
END:DAYLIGHT
BEGIN:STANDARD
TZOFFSETFROM:-0400
TZOFFSETTO:-0500
TZNAME:EST
DTSTART:20211107T060000
END:STANDARD
BEGIN:DAYLIGHT
TZOFFSETFROM:-0500
TZOFFSETTO:-0400
TZNAME:EDT
DTSTART:20220313T070000
END:DAYLIGHT
BEGIN:STANDARD
TZOFFSETFROM:-0400
TZOFFSETTO:-0500
TZNAME:EST
DTSTART:20221106T060000
END:STANDARD
BEGIN:DAYLIGHT
TZOFFSETFROM:-0500
TZOFFSETTO:-0400
TZNAME:EDT
DTSTART:20230312T070000
END:DAYLIGHT
BEGIN:STANDARD
TZOFFSETFROM:-0400
TZOFFSETTO:-0500
TZNAME:EST
DTSTART:20231105T060000
END:STANDARD
BEGIN:DAYLIGHT
TZOFFSETFROM:-0500
TZOFFSETTO:-0400
TZNAME:EDT
DTSTART:20240310T070000
END:DAYLIGHT
BEGIN:STANDARD
TZOFFSETFROM:-0400
TZOFFSETTO:-0500
TZNAME:EST
DTSTART:20241103T060000
END:STANDARD
END:VTIMEZONE
BEGIN:VEVENT
DTSTART;TZID=America/New_York:20231117T190000
DTEND;TZID=America/New_York:20231117T210000
DTSTAMP:20260421T130928
CREATED:20231025T021141Z
LAST-MODIFIED:20231025T021208Z
UID:17583-1700247600-1700254800@www.crossparkchurch.org
SUMMARY:Men's Ministry Fellowship
DESCRIPTION:On Friday\, 11/17\, the men of the church will gather together at Jared Meisel’s house for an evening of fellowship\, food and fun. Show up at 7PM and hang out with brothers around the fire\, playing darts and enjoying some dessert. No RSVP required\, just show up! With questions or for more info\, contact Grant (grant@crossparkchurch.org).
URL:https://www.crossparkchurch.org/event/mens-ministry-fellowship/
LOCATION:Meisel Home\, 5423 Winsland Lane\, Charlotte\, 28277\, United States
CATEGORIES:Men
ATTACH;FMTTYPE=image/png:https://www.crossparkchurch.org/wp-content/uploads/2023/10/11.17-MM-fellowship.png
ORGANIZER;CN="Grant Beachy":MAILTO:grant@crossparkchurch.org
END:VEVENT
BEGIN:VEVENT
DTSTART;TZID=America/New_York:20220630T190000
DTEND;TZID=America/New_York:20220630T210000
DTSTAMP:20260421T130928
CREATED:20220525T134624Z
LAST-MODIFIED:20220623T232948Z
UID:14478-1656615600-1656622800@www.crossparkchurch.org
SUMMARY:Women's Event | Come To The Table
DESCRIPTION:RSVP now to join us for our “Come to the Table” gathering on Thursday\, 6/30 from 7-9PM for a relaxed evening hanging out at Rachel Meisel’s house (5423 Winsland Lane\, Charlotte\, NC 28277). Please bring an appetizer\, tapa\, or dessert to share!
URL:https://www.crossparkchurch.org/event/womens-event-come-to-the-table-2022-06-30/
LOCATION:Meisel Home\, 5423 Winsland Lane\, Charlotte\, 28277\, United States
CATEGORIES:Women
ATTACH;FMTTYPE=image/jpeg:https://www.crossparkchurch.org/wp-content/uploads/2022/05/CPC_WMSummer_2022_SocialComeTable.jpg
ORGANIZER;CN="Trish Hardy":MAILTO:women@crossparkchurch.org
END:VEVENT
END:VCALENDAR