BEGIN:VCALENDAR
VERSION:2.0
PRODID:-//Cross Park Church - ECPv6.15.20//NONSGML v1.0//EN
CALSCALE:GREGORIAN
METHOD:PUBLISH
X-ORIGINAL-URL:https://www.crossparkchurch.org
X-WR-CALDESC:Events for Cross Park Church
REFRESH-INTERVAL;VALUE=DURATION:PT1H
X-Robots-Tag:noindex
X-PUBLISHED-TTL:PT1H
BEGIN:VTIMEZONE
TZID:America/New_York
BEGIN:DAYLIGHT
TZOFFSETFROM:-0500
TZOFFSETTO:-0400
TZNAME:EDT
DTSTART:20230312T070000
END:DAYLIGHT
BEGIN:STANDARD
TZOFFSETFROM:-0400
TZOFFSETTO:-0500
TZNAME:EST
DTSTART:20231105T060000
END:STANDARD
BEGIN:DAYLIGHT
TZOFFSETFROM:-0500
TZOFFSETTO:-0400
TZNAME:EDT
DTSTART:20240310T070000
END:DAYLIGHT
BEGIN:STANDARD
TZOFFSETFROM:-0400
TZOFFSETTO:-0500
TZNAME:EST
DTSTART:20241103T060000
END:STANDARD
BEGIN:DAYLIGHT
TZOFFSETFROM:-0500
TZOFFSETTO:-0400
TZNAME:EDT
DTSTART:20250309T070000
END:DAYLIGHT
BEGIN:STANDARD
TZOFFSETFROM:-0400
TZOFFSETTO:-0500
TZNAME:EST
DTSTART:20251102T060000
END:STANDARD
BEGIN:DAYLIGHT
TZOFFSETFROM:-0500
TZOFFSETTO:-0400
TZNAME:EDT
DTSTART:20260308T070000
END:DAYLIGHT
BEGIN:STANDARD
TZOFFSETFROM:-0400
TZOFFSETTO:-0500
TZNAME:EST
DTSTART:20261101T060000
END:STANDARD
END:VTIMEZONE
BEGIN:VEVENT
DTSTART;TZID=America/New_York:20250812T100000
DTEND;TZID=America/New_York:20250812T113000
DTSTAMP:20260420T121053
CREATED:20250531T160712Z
LAST-MODIFIED:20250730T170459Z
UID:20217-1754992800-1754998200@www.crossparkchurch.org
SUMMARY:Playground Takeover
DESCRIPTION:Let’s play together! Mark your calendar for the following dates this summer. We’ll gather together in the morning to try and beat the heat. Plan to stay for as long or as little as you’d like. Join us for some summer fun at different parks around the city \nPineville Lake Park (and Splashpad)\nTuesday\, August 12\n10 AM
URL:https://www.crossparkchurch.org/event/playground-takeover-8-12-2025/
LOCATION:Pineville Lake Park & Splash Pad\, 909 Lakeview Drive\, Pineville\, NC\, 28134\, United States
CATEGORIES:Children
ATTACH;FMTTYPE=image/png:https://www.crossparkchurch.org/wp-content/uploads/2025/05/812-Plat-at-the-Park-CM-1600-×-900-px.png
END:VEVENT
BEGIN:VEVENT
DTSTART;TZID=America/New_York:20240814T090000
DTEND;TZID=America/New_York:20240814T103000
DTSTAMP:20260420T121053
CREATED:20240703T234849Z
LAST-MODIFIED:20240703T235823Z
UID:18762-1723626000-1723631400@www.crossparkchurch.org
SUMMARY:Children's Ministry Summer Play at the Park
DESCRIPTION:Let’s play together! We will gather together in the mornings to try and beat the heat. Plan to stay for as long or as little as you’d like. Join us for some summer fun at different parks around the city.
URL:https://www.crossparkchurch.org/event/childrens-ministry-summer-play-at-the-park-aug-2024/
LOCATION:Pineville Lake Park & Splash Pad\, 909 Lakeview Drive\, Pineville\, NC\, 28134\, United States
CATEGORIES:Children,Special Events
ATTACH;FMTTYPE=image/png:https://www.crossparkchurch.org/wp-content/uploads/2024/07/CM-Park_August-14th-@-9am-Pineville-Lake-Park-Splash-Pad-1600-×-900-px.png
END:VEVENT
END:VCALENDAR