BEGIN:VCALENDAR
VERSION:2.0
PRODID:-//Cross Park Church - ECPv6.15.20//NONSGML v1.0//EN
CALSCALE:GREGORIAN
METHOD:PUBLISH
X-WR-CALNAME:Cross Park Church
X-ORIGINAL-URL:https://www.crossparkchurch.org
X-WR-CALDESC:Events for Cross Park Church
REFRESH-INTERVAL;VALUE=DURATION:PT1H
X-Robots-Tag:noindex
X-PUBLISHED-TTL:PT1H
BEGIN:VTIMEZONE
TZID:America/New_York
BEGIN:DAYLIGHT
TZOFFSETFROM:-0500
TZOFFSETTO:-0400
TZNAME:EDT
DTSTART:20200308T070000
END:DAYLIGHT
BEGIN:STANDARD
TZOFFSETFROM:-0400
TZOFFSETTO:-0500
TZNAME:EST
DTSTART:20201101T060000
END:STANDARD
BEGIN:DAYLIGHT
TZOFFSETFROM:-0500
TZOFFSETTO:-0400
TZNAME:EDT
DTSTART:20210314T070000
END:DAYLIGHT
BEGIN:STANDARD
TZOFFSETFROM:-0400
TZOFFSETTO:-0500
TZNAME:EST
DTSTART:20211107T060000
END:STANDARD
BEGIN:DAYLIGHT
TZOFFSETFROM:-0500
TZOFFSETTO:-0400
TZNAME:EDT
DTSTART:20220313T070000
END:DAYLIGHT
BEGIN:STANDARD
TZOFFSETFROM:-0400
TZOFFSETTO:-0500
TZNAME:EST
DTSTART:20221106T060000
END:STANDARD
BEGIN:DAYLIGHT
TZOFFSETFROM:-0500
TZOFFSETTO:-0400
TZNAME:EDT
DTSTART:20230312T070000
END:DAYLIGHT
BEGIN:STANDARD
TZOFFSETFROM:-0400
TZOFFSETTO:-0500
TZNAME:EST
DTSTART:20231105T060000
END:STANDARD
BEGIN:DAYLIGHT
TZOFFSETFROM:-0500
TZOFFSETTO:-0400
TZNAME:EDT
DTSTART:20240310T070000
END:DAYLIGHT
BEGIN:STANDARD
TZOFFSETFROM:-0400
TZOFFSETTO:-0500
TZNAME:EST
DTSTART:20241103T060000
END:STANDARD
END:VTIMEZONE
BEGIN:VEVENT
DTSTART;VALUE=DATE:20231103
DTEND;VALUE=DATE:20231106
DTSTAMP:20260421T081812
CREATED:20230831T193156Z
LAST-MODIFIED:20231003T211743Z
UID:17284-1698969600-1699228799@www.crossparkchurch.org
SUMMARY:Youth Fall Retreat
DESCRIPTION:– Nov 3-5 [Ridge Haven Camp & Retreat Center]\n– Who: current 6-12th graders\n– Cost: around $172 \n– You’re not going to want to miss the annual fall retreat with our fellow PCA churches in the Central Carolina Presbytery! Here are three reasons to go: 1) It will be a great time for students to get away! 2) It will be lots of fun! 3) Students will be challenged to think deeply about their relationships with Jesus and others!
URL:https://www.crossparkchurch.org/event/youth-fall-retreat-2023/
LOCATION:Ridge Haven
ATTACH;FMTTYPE=image/jpeg:https://www.crossparkchurch.org/wp-content/uploads/2023/08/IMG_6622.jpg
ORGANIZER;CN="Andrew Luchenbill":MAILTO:youth@crossparkchurch.org
END:VEVENT
BEGIN:VEVENT
DTSTART;VALUE=DATE:20210416
DTEND;VALUE=DATE:20210419
DTSTAMP:20260421T081812
CREATED:20210105T134852Z
LAST-MODIFIED:20210316T173847Z
UID:10953-1618531200-1618790399@www.crossparkchurch.org
SUMMARY:CANCELED | Youth Spring Retreat @ Ridge Haven
DESCRIPTION:Unfortunately\, the April Youth Retreat has been canceled\, primarily due to continuing uncertainty surrounding the pandemic. However\, we will be planning a replacement event which will take place in Charlotte in late April\, so be on the lookout for more details in the weeks to come!
URL:https://www.crossparkchurch.org/event/youth-spring-retreat-ridge-haven/
LOCATION:Ridge Haven
CATEGORIES:Youth
ORGANIZER;CN="Ethan Brown":MAILTO:youth@crossparkchurch.org
END:VEVENT
END:VCALENDAR