BEGIN:VCALENDAR
VERSION:2.0
PRODID:-//Cross Park Church - ECPv6.15.20//NONSGML v1.0//EN
CALSCALE:GREGORIAN
METHOD:PUBLISH
X-ORIGINAL-URL:https://www.crossparkchurch.org
X-WR-CALDESC:Events for Cross Park Church
REFRESH-INTERVAL;VALUE=DURATION:PT1H
X-Robots-Tag:noindex
X-PUBLISHED-TTL:PT1H
BEGIN:VTIMEZONE
TZID:America/New_York
BEGIN:DAYLIGHT
TZOFFSETFROM:-0500
TZOFFSETTO:-0400
TZNAME:EDT
DTSTART:20200308T070000
END:DAYLIGHT
BEGIN:STANDARD
TZOFFSETFROM:-0400
TZOFFSETTO:-0500
TZNAME:EST
DTSTART:20201101T060000
END:STANDARD
BEGIN:DAYLIGHT
TZOFFSETFROM:-0500
TZOFFSETTO:-0400
TZNAME:EDT
DTSTART:20210314T070000
END:DAYLIGHT
BEGIN:STANDARD
TZOFFSETFROM:-0400
TZOFFSETTO:-0500
TZNAME:EST
DTSTART:20211107T060000
END:STANDARD
BEGIN:DAYLIGHT
TZOFFSETFROM:-0500
TZOFFSETTO:-0400
TZNAME:EDT
DTSTART:20220313T070000
END:DAYLIGHT
BEGIN:STANDARD
TZOFFSETFROM:-0400
TZOFFSETTO:-0500
TZNAME:EST
DTSTART:20221106T060000
END:STANDARD
END:VTIMEZONE
BEGIN:VEVENT
DTSTART;TZID=America/New_York:20211215T183000
DTEND;TZID=America/New_York:20211215T203000
DTSTAMP:20260425T082344
CREATED:20211214T124810Z
LAST-MODIFIED:20211214T124810Z
UID:12925-1639593000-1639600200@www.crossparkchurch.org
SUMMARY:Youth Group CANCELED
DESCRIPTION:For a number of reasons\, our final youth group of the semester that was scheduled for Wednesday (12/15) is now cancelled. Therefore we will NOT meet for youth group on Wednesday (12/15)!
URL:https://www.crossparkchurch.org/event/youth-group-canceled/
LOCATION:RTS\, 2101 Carmel Rd\, Charlotte\, NC\, 28226\, United States
CATEGORIES:Youth
ORGANIZER;CN="Spencer Johnson":MAILTO:Youth@crossparkchurch.org
END:VEVENT
BEGIN:VEVENT
DTSTART;TZID=America/New_York:20211212T120000
DTEND;TZID=America/New_York:20211212T123000
DTSTAMP:20260425T082344
CREATED:20210922T130452Z
LAST-MODIFIED:20210922T130452Z
UID:12449-1639310400-1639312200@www.crossparkchurch.org
SUMMARY:Youth dGroups
DESCRIPTION:dGroups (short for Discipleship Groups) are designed to give students opportunity to grow in their knowledge of God’s Word\, deepen their love for Jesus\, and enrich their friendships with other believers. We hope that all of the students of Cross Park will be connected to a dGroup and also want these to be places where students feel encouraged to invite their friends – whether they are Christians or not! \nFor the Fall 2021\, dGroups will meet immediately after worship on Sunday mornings on weeks with no Youth Large Group. \nEx. – Small groups will meet (9/12\, 9/26\, 10/10\, 10/24\, 11/7\, 11/21\, 12/5\, 12/12) \nIf you want to be connected to a dGroup or need a dGroups leader’s contact information\, contact Spencer.
URL:https://www.crossparkchurch.org/event/youth-dgroups-12-12-2021/
LOCATION:RTS\, 2101 Carmel Rd\, Charlotte\, NC\, 28226\, United States
CATEGORIES:Youth
ORGANIZER;CN="Erin":MAILTO:erin@crossparkchurch.org
END:VEVENT
BEGIN:VEVENT
DTSTART;TZID=America/New_York:20211208T183000
DTEND;TZID=America/New_York:20211208T203000
DTSTAMP:20260425T082344
CREATED:20210922T131041Z
LAST-MODIFIED:20210922T131041Z
UID:12465-1638988200-1638995400@www.crossparkchurch.org
SUMMARY:Youth Group
DESCRIPTION:Wednesday Night Youth Group\nCross Park Youth meet together as a large group once a month to play games\, worship God\, and listen to teaching from the Word.
URL:https://www.crossparkchurch.org/event/youth-group-2/
LOCATION:RTS\, 2101 Carmel Rd\, Charlotte\, NC\, 28226\, United States
CATEGORIES:Youth
ORGANIZER;CN="Erin":MAILTO:erin@crossparkchurch.org
END:VEVENT
BEGIN:VEVENT
DTSTART;TZID=America/New_York:20211201T183000
DTEND;TZID=America/New_York:20211201T203000
DTSTAMP:20260425T082344
CREATED:20211129T223534Z
LAST-MODIFIED:20211129T223534Z
UID:12824-1638383400-1638390600@www.crossparkchurch.org
SUMMARY:Youth Group
DESCRIPTION:Youth Group will meet this Wednesday (12/1) at RTS from 6:30-8:30pm! We will be studying what the Bible has to say about what we should do after we’ve been burned by the Church! Where do we turn when we feel like outcasts in the place that was supposed to take care of us? Here’s what you’ll need: \n\n\n\nBible\nA friend\nWater Bottle\nClothes/shoes you’re comfortable in while playing outside\nYour Mask (We will be studying inside)
URL:https://www.crossparkchurch.org/event/youth-group-12-1-2021/
LOCATION:RTS\, 2101 Carmel Rd\, Charlotte\, NC\, 28226\, United States
CATEGORIES:Youth
ORGANIZER;CN="Spencer Johnson":MAILTO:Youth@crossparkchurch.org
END:VEVENT
BEGIN:VEVENT
DTSTART;TZID=America/New_York:20211117T183000
DTEND;TZID=America/New_York:20211117T203000
DTSTAMP:20260425T082344
CREATED:20211118T151329Z
LAST-MODIFIED:20211118T151329Z
UID:12790-1637173800-1637181000@www.crossparkchurch.org
SUMMARY:Youth Group
DESCRIPTION:Here are some Quick Reminders about Youth Group\n\nThe youth will gather at RTS on Wednesday (11/17) from 6:30-8:30pm for youth group! We will be studying what the Bible has to say about suffering in the Christian life! We’ll be attempting to answer questions like “why do I suffer?”\, “Is God still good even though I suffer?”\, “If God controls everything\, then why does he allow me to suffer?” Here’s what you’ll need:\n\nPhysical Bible! NOT your phone! (It’s okay if you don’t have a physical Bible – I can bring an extra!)\nShoes/clothes to play outside in.\nMasks
URL:https://www.crossparkchurch.org/event/youth-group-11-17-2021/
LOCATION:RTS\, 2101 Carmel Rd\, Charlotte\, NC\, 28226\, United States
CATEGORIES:Youth
ORGANIZER;CN="Spencer Johnson":MAILTO:Youth@crossparkchurch.org
END:VEVENT
BEGIN:VEVENT
DTSTART;TZID=America/New_York:20211107T120000
DTEND;TZID=America/New_York:20211107T121500
DTSTAMP:20260425T082344
CREATED:20211026T003955Z
LAST-MODIFIED:20211026T003955Z
UID:12581-1636286400-1636287300@www.crossparkchurch.org
SUMMARY:Congregational Meeting
DESCRIPTION:All Cross Park members are invited to a congregational meeting directly after the service on 11/7. We have to vote to dissolve our call to Jordan Olshefski as associate pastor so that he is free to take his new call.
URL:https://www.crossparkchurch.org/event/congregational-meeting/
LOCATION:RTS\, 2101 Carmel Rd\, Charlotte\, NC\, 28226\, United States
CATEGORIES:Special Events
ORGANIZER;CN="Erin":MAILTO:erin@crossparkchurch.org
END:VEVENT
BEGIN:VEVENT
DTSTART;TZID=America/New_York:20211103T183000
DTEND;TZID=America/New_York:20211103T203000
DTSTAMP:20260425T082344
CREATED:20210922T130906Z
LAST-MODIFIED:20211102T191707Z
UID:12462-1635964200-1635971400@www.crossparkchurch.org
SUMMARY:Youth Group
DESCRIPTION:Our bi-weekly youth group will meet this Wednesday (11/3) from 6:30-8:30pm at RTS (2101 Carmel Rd). Games will be outside and the lesson and prayer will be inside\, so dress appropriately. Bring your Bible\, mask\, and water bottle. \nSpencer is going to be teaching on what the Bible has to say about homosexuality and how we\, as the church\, should be thinking about and engaging with this issue that is so prevalent in our culture. \nWARNING! – If you have not had any conversations about this topic with your children\, I would strongly encourage you to do so before youth group on Wednesday night. The reality is that this topic is far too big to answer every question that your students will naturally have during the lesson. If you think that your student is not ready to engage in these conversations\, it may be wise to skip this youth group and rejoin us next time. If they do attend\, they will naturally have many questions for you as they return home\, and Spencer would love to help you answer them. Feel free to reach out to him via email (youth@crossparkchurch.org).
URL:https://www.crossparkchurch.org/event/youth-group-2021-11-03/
LOCATION:RTS\, 2101 Carmel Rd\, Charlotte\, NC\, 28226\, United States
CATEGORIES:Youth
ORGANIZER;CN="Spencer Johnson":MAILTO:Youth@crossparkchurch.org
END:VEVENT
BEGIN:VEVENT
DTSTART;TZID=America/New_York:20211024T120000
DTEND;TZID=America/New_York:20211024T131500
DTSTAMP:20260425T082344
CREATED:20211020T111224Z
LAST-MODIFIED:20211020T111224Z
UID:12561-1635076800-1635081300@www.crossparkchurch.org
SUMMARY:Fall Fellowship | Lunch
DESCRIPTION:Join us for lunch after church this Sunday\, 10/24 (weather-permitting). This is a great chance to catch up with your Cross Park family or get to know new folks. Cross Park is providing the drinks and dessert; the food truck lunch options are self-pay. \nWe are in need of a few volunteers to help clean up after lunch on Sunday!! Please email erin@crossparkchurch.org to help out. \nLunch\nAfter the 10:30AM service\, we will have lunch together! We encourage you to use your chairs\, bring a picnic blanket\, and set up in a good spot for lunch after the service in the corner lawn on Sharon/Carmel Rd. We will provide drinks and dessert for everyone; novelty ice cream options will be available from The Social Cow cart. We will also have two food trucks in the front parking lot if you want to buy lunch from them. There will be a gourmet burgers & fries option (Assorted Burgers\, Fries\, Wings\, Po Boys\, Dogs\, Etc.) and classic American seafood (Fried Shrimp\, Fried Fish\, Chicken Tenders\, Etc.) Also\, feel free to pack your own picnic lunch if that is a better option for your family. \nVolunteers\nIf you can volunteer to tear down on Sunday\, we would be so grateful! Sign up here. Our weekly services are made possible by YOU and this week’s special lunch is no different. Our BIG need for Sunday are volunteers to help clean up after lunch by gathering trash and making sure we take great care of the RTS property.
URL:https://www.crossparkchurch.org/event/fall-fellowship-lunch/
LOCATION:RTS\, 2101 Carmel Rd\, Charlotte\, NC\, 28226\, United States
CATEGORIES:Special Events
ATTACH;FMTTYPE=image/png:https://www.crossparkchurch.org/wp-content/uploads/2021/10/3CB6E1B7-F3D6-4FA4-8731-83BE9B1B2B39.png
ORGANIZER;CN="Erin":MAILTO:erin@crossparkchurch.org
END:VEVENT
BEGIN:VEVENT
DTSTART;TZID=America/New_York:20210912T120000
DTEND;TZID=America/New_York:20210912T123000
DTSTAMP:20260425T082344
CREATED:20210922T130218Z
LAST-MODIFIED:20210922T130353Z
UID:12433-1631448000-1631449800@www.crossparkchurch.org
SUMMARY:Youth dGroups
DESCRIPTION:dGroups (short for Discipleship Groups) are designed to give students opportunity to grow in their knowledge of God’s Word\, deepen their love for Jesus\, and enrich their friendships with other believers. We hope that all of the students of Cross Park will be connected to a dGroup and also want these to be places where students feel encouraged to invite their friends – whether they are Christians or not! \nFor the Fall 2021\, dGroups will meet immediately after worship on Sunday mornings on weeks with no Youth Large Group. \nEx. – Small groups will meet (9/12\, 9/26\, 10/10\, 10/24\, 11/7\, 11/21\, 12/5\, 12/12) \nIf you want to be connected to a dGroup or need a dGroups leader’s contact information\, contact Spencer.
URL:https://www.crossparkchurch.org/event/youth-dgroups/2021-09-12/
LOCATION:RTS\, 2101 Carmel Rd\, Charlotte\, NC\, 28226\, United States
CATEGORIES:Youth
ORGANIZER;CN="Erin":MAILTO:erin@crossparkchurch.org
END:VEVENT
BEGIN:VEVENT
DTSTART;TZID=America/New_York:20210911T140000
DTEND;TZID=America/New_York:20210911T160000
DTSTAMP:20260425T082344
CREATED:20210825T133814Z
LAST-MODIFIED:20210910T125421Z
UID:12162-1631368800-1631376000@www.crossparkchurch.org
SUMMARY:Women's Fall Kick Off Event
DESCRIPTION:Please join us for refreshments and fellowship from 2-4PM at the outdoor cafe area outside Wellinghall Books at RTS (2101 Carmel Road) to hear about Women’s Groups\, other Women’s Ministry opportunities\, and get to know one another better. Open to all women – please feel free to bring your friends and neighbors!
URL:https://www.crossparkchurch.org/event/womens-fall-kick-off-event/
LOCATION:RTS\, 2101 Carmel Rd\, Charlotte\, NC\, 28226\, United States
CATEGORIES:Women
END:VEVENT
BEGIN:VEVENT
DTSTART;TZID=America/New_York:20210908T183000
DTEND;TZID=America/New_York:20210908T203000
DTSTAMP:20260425T082344
CREATED:20210922T130906Z
LAST-MODIFIED:20210922T130922Z
UID:12451-1631125800-1631133000@www.crossparkchurch.org
SUMMARY:Youth Group
DESCRIPTION:Wednesday Night Youth Group\nCross Park Youth meet together as a large group once a month to play games\, worship God\, and listen to teaching from the Word.
URL:https://www.crossparkchurch.org/event/youth-group/2021-09-08/
LOCATION:RTS\, 2101 Carmel Rd\, Charlotte\, NC\, 28226\, United States
CATEGORIES:Youth
ORGANIZER;CN="Erin":MAILTO:erin@crossparkchurch.org
END:VEVENT
BEGIN:VEVENT
DTSTART;TZID=America/New_York:20210908T183000
DTEND;TZID=America/New_York:20210908T203000
DTSTAMP:20260425T082344
CREATED:20210903T112821Z
LAST-MODIFIED:20210903T112837Z
UID:12325-1631125800-1631133000@www.crossparkchurch.org
SUMMARY:Kickoff Event for Men’s Discipleship
DESCRIPTION:Let’s try this again!\n\nMen\, join us for the Fall 2021 Men’s discipleship Kickoff on Wednesday\, 9/8 at 6:30PM. We will gather once again at the lawn of RTS (2101 Carmel Rd) but this time\, to the right of the parking lot instead of the left. Join us for food\, drinks\, and a chance for revenge in corn hole! This will be both fun and informative as we cast vision and begin ti form groups for the coming year. Bring your friends – anyone potentially interested in discipleship\, whether inside or outside our church.\n\nPlease RSVP by Monday\, 9/6.
URL:https://www.crossparkchurch.org/event/09-08-2021-kickoff-event-for-mens-discipleship/
LOCATION:RTS\, 2101 Carmel Rd\, Charlotte\, NC\, 28226\, United States
CATEGORIES:Men
END:VEVENT
BEGIN:VEVENT
DTSTART;TZID=America/New_York:20210901T183000
DTEND;TZID=America/New_York:20210901T203000
DTSTAMP:20260425T082344
CREATED:20210808T162414Z
LAST-MODIFIED:20210902T134922Z
UID:12099-1630521000-1630528200@www.crossparkchurch.org
SUMMARY:POSTPONED • Kickoff Event for Men’s Discipleship
DESCRIPTION:POSTPONED – more details on the new date TBA\n\nMen\, join us for the Fall 2021 Men’s discipleship Kickoff on Wednesday\, 9/1 at 6:30PM. We will gather once again at the lawn of RTS (2101 Carmel Rd) but this time\, to the right of the parking lot instead of the left. Join us for food\, drinks\, and a chance for revenge in corn hole! This will be both fun and informative as we cast vision and begin ti form groups for the coming year. Bring your friends – anyone potentially interested in discipleship\, whether inside or outside our church. Please RSVP by Monday\, 8/30.
URL:https://www.crossparkchurch.org/event/kickoff-event-for-mens-discipleship-09-01-2021/
LOCATION:RTS\, 2101 Carmel Rd\, Charlotte\, NC\, 28226\, United States
CATEGORIES:Men
END:VEVENT
BEGIN:VEVENT
DTSTART;TZID=America/New_York:20210728T183000
DTEND;TZID=America/New_York:20210728T203000
DTSTAMP:20260425T082344
CREATED:20210716T011635Z
LAST-MODIFIED:20210808T162900Z
UID:12032-1627497000-1627504200@www.crossparkchurch.org
SUMMARY:Men's Summer Event
DESCRIPTION:Men\, our next gathering will be Wednesday\, 7/28 at 6:30PM\, on the front lawn of Reformed Theological Seminary (2101 Carmel Road). We will provide pizza\, drinks\, and a cornhole tournament. \nBring a friend and join us for a good time to reconnect as guys and hear a quick update on Men’s Discipleship at Cross Park. \nPlease RSVP by Monday\, 7/26 so we can have plenty of food.
URL:https://www.crossparkchurch.org/event/mens-summer-event/
LOCATION:RTS\, 2101 Carmel Rd\, Charlotte\, NC\, 28226\, United States
CATEGORIES:Men
END:VEVENT
BEGIN:VEVENT
DTSTART;TZID=America/New_York:20210404T120000
DTEND;TZID=America/New_York:20210404T121500
DTSTAMP:20260425T082344
CREATED:20210401T172446Z
LAST-MODIFIED:20210401T172446Z
UID:11375-1617537600-1617538500@www.crossparkchurch.org
SUMMARY:Easter Egg Hunt
DESCRIPTION:Join us this Sunday\, 4/4 after service for an Easter story reading and a small Easter egg hunt. Gather at the back of the parking lot post service. The egg hunt will be for children in 2nd grade and younger. Please do not bring a basket as bags will be provided for every child.
URL:https://www.crossparkchurch.org/event/easter-egg-hunt/
LOCATION:RTS\, 2101 Carmel Rd\, Charlotte\, NC\, 28226\, United States
CATEGORIES:Children,Special Events
ATTACH;FMTTYPE=image/png:https://www.crossparkchurch.org/wp-content/uploads/2021/04/MISC-Events.png
ORGANIZER;CN="Erin":MAILTO:erin@crossparkchurch.org
END:VEVENT
BEGIN:VEVENT
DTSTART;TZID=America/New_York:20210127T190000
DTEND;TZID=America/New_York:20210127T203000
DTSTAMP:20260425T082344
CREATED:20210105T133946Z
LAST-MODIFIED:20210212T024019Z
UID:10942-1611774000-1611779400@www.crossparkchurch.org
SUMMARY:Youth Large Group @ RTS
DESCRIPTION:
URL:https://www.crossparkchurch.org/event/youth-large-group-rts/2021-01-27/
LOCATION:RTS\, 2101 Carmel Rd\, Charlotte\, NC\, 28226\, United States
CATEGORIES:Youth
ORGANIZER;CN="Ethan Brown":MAILTO:youth@crossparkchurch.org
END:VEVENT
END:VCALENDAR