BEGIN:VCALENDAR
VERSION:2.0
PRODID:-//Cross Park Church - ECPv6.15.20//NONSGML v1.0//EN
CALSCALE:GREGORIAN
METHOD:PUBLISH
X-ORIGINAL-URL:https://www.crossparkchurch.org
X-WR-CALDESC:Events for Cross Park Church
REFRESH-INTERVAL;VALUE=DURATION:PT1H
X-Robots-Tag:noindex
X-PUBLISHED-TTL:PT1H
BEGIN:VTIMEZONE
TZID:America/New_York
BEGIN:DAYLIGHT
TZOFFSETFROM:-0500
TZOFFSETTO:-0400
TZNAME:EDT
DTSTART:20220313T070000
END:DAYLIGHT
BEGIN:STANDARD
TZOFFSETFROM:-0400
TZOFFSETTO:-0500
TZNAME:EST
DTSTART:20221106T060000
END:STANDARD
BEGIN:DAYLIGHT
TZOFFSETFROM:-0500
TZOFFSETTO:-0400
TZNAME:EDT
DTSTART:20230312T070000
END:DAYLIGHT
BEGIN:STANDARD
TZOFFSETFROM:-0400
TZOFFSETTO:-0500
TZNAME:EST
DTSTART:20231105T060000
END:STANDARD
BEGIN:DAYLIGHT
TZOFFSETFROM:-0500
TZOFFSETTO:-0400
TZNAME:EDT
DTSTART:20240310T070000
END:DAYLIGHT
BEGIN:STANDARD
TZOFFSETFROM:-0400
TZOFFSETTO:-0500
TZNAME:EST
DTSTART:20241103T060000
END:STANDARD
BEGIN:DAYLIGHT
TZOFFSETFROM:-0500
TZOFFSETTO:-0400
TZNAME:EDT
DTSTART:20250309T070000
END:DAYLIGHT
BEGIN:STANDARD
TZOFFSETFROM:-0400
TZOFFSETTO:-0500
TZNAME:EST
DTSTART:20251102T060000
END:STANDARD
END:VTIMEZONE
BEGIN:VEVENT
DTSTART;TZID=America/New_York:20240816T190000
DTEND;TZID=America/New_York:20240816T220000
DTSTAMP:20260420T130056
CREATED:20240612T011055Z
LAST-MODIFIED:20240811T013107Z
UID:18691-1723834800-1723845600@www.crossparkchurch.org
SUMMARY:Youth Group - Charlotte Knights Baseball
DESCRIPTION:Though we are in the midst of some transition in the Youth Group\, we are planning to have a great summer! We’ve already enjoyed a great ice cream social at the Newcott’s and much more is in store. To keep things as simple as possible\, we are planning to have a youth event every Wednesday at Hemby\, from 7-8:30 from June 19 to August 14 (minus July 3). We will alternate weeks between a normal ‘Youth Group’ night and a hang-out / fun event night. But know that every Wednesday from 7 to 8:30\, you can gather with other Cross Park youth at Hemby\, starting June 19! We look forward to seeing you! With any questions\, feel free to reach out to Patrick Thatch at 202-262-7990‬. \nBring a friend and come join us each week. Parents are always welcome\, particularly on game/fun event nights\, as volunteers are always needed!  Water bottles are highly encouraged as it is hot out there folks\, and dehydration is REAL!\n\nJune 26 – Water games night!  Come prepared to get wet (old clothes and shoes) and bring a towel.\nJuly 3 – No Youth Group – Celebrate the birthday of America!\nJuly 10 – Youth Group/DGroups – Featuring guest speaker\, Tyre Green\nJuly 17 – Fun Event Night\nJuly 24 – Youth Group/DGroups – Featuring guest speaker\, Bob Ihrig\nJuly 31 – Fun Event Night\nAugust 7 – Youth Group/DGroups – Featuring guest speaker\, Will Milks\nAugust 16 – End of Summer Event – Truist Field Charlotte Knights vs Toledo Mud Hens
URL:https://www.crossparkchurch.org/event/youth-group-summer-2024-2024-08-14/
LOCATION:Truist Field\, 324 S Mint Street\, Charlotte\, NC\, 28202\, United States
CATEGORIES:Youth
ATTACH;FMTTYPE=image/png:https://www.crossparkchurch.org/wp-content/uploads/2022/08/MISC-Events-1600-×-900-px.png
ORGANIZER;CN="Patrick Thatch":MAILTO:youth@crossparkchurch.org
END:VEVENT
BEGIN:VEVENT
DTSTART;TZID=America/New_York:20230811T190000
DTEND;TZID=America/New_York:20230811T190000
DTSTAMP:20260420T130056
CREATED:20230503T220822Z
LAST-MODIFIED:20230801T172359Z
UID:16650-1691780400-1691780400@www.crossparkchurch.org
SUMMARY:Youth Group Event Nights - Knights Game
DESCRIPTION:Join us at the Knights game on 8/11 at 7PM. People MUST RSVP to Nick Newcott at nicknewcott@gmail.com or text 240-485-7035. Tickets are $14 and include $2 concessions. This is open to Youth (their friends) AND their families.
URL:https://www.crossparkchurch.org/event/youth-group-event-nights-knights-game/
LOCATION:Truist Field\, 324 S Mint Street\, Charlotte\, NC\, 28202\, United States
CATEGORIES:Youth
ATTACH;FMTTYPE=image/png:https://www.crossparkchurch.org/wp-content/uploads/2022/08/MISC-Events-1600-×-900-px.png
END:VEVENT
END:VCALENDAR