BEGIN:VCALENDAR
VERSION:2.0
PRODID:-//Cross Park Church - ECPv6.15.20//NONSGML v1.0//EN
CALSCALE:GREGORIAN
METHOD:PUBLISH
X-WR-CALNAME:Cross Park Church
X-ORIGINAL-URL:https://www.crossparkchurch.org
X-WR-CALDESC:Events for Cross Park Church
REFRESH-INTERVAL;VALUE=DURATION:PT1H
X-Robots-Tag:noindex
X-PUBLISHED-TTL:PT1H
BEGIN:VTIMEZONE
TZID:America/New_York
BEGIN:DAYLIGHT
TZOFFSETFROM:-0500
TZOFFSETTO:-0400
TZNAME:EDT
DTSTART:20230312T070000
END:DAYLIGHT
BEGIN:STANDARD
TZOFFSETFROM:-0400
TZOFFSETTO:-0500
TZNAME:EST
DTSTART:20231105T060000
END:STANDARD
BEGIN:DAYLIGHT
TZOFFSETFROM:-0500
TZOFFSETTO:-0400
TZNAME:EDT
DTSTART:20240310T070000
END:DAYLIGHT
BEGIN:STANDARD
TZOFFSETFROM:-0400
TZOFFSETTO:-0500
TZNAME:EST
DTSTART:20241103T060000
END:STANDARD
BEGIN:DAYLIGHT
TZOFFSETFROM:-0500
TZOFFSETTO:-0400
TZNAME:EDT
DTSTART:20250309T070000
END:DAYLIGHT
BEGIN:STANDARD
TZOFFSETFROM:-0400
TZOFFSETTO:-0500
TZNAME:EST
DTSTART:20251102T060000
END:STANDARD
END:VTIMEZONE
BEGIN:VEVENT
DTSTART;VALUE=DATE:20240321
DTEND;VALUE=DATE:20240324
DTSTAMP:20260422T100616
CREATED:20240126T181722Z
LAST-MODIFIED:20240220T151522Z
UID:18050-1710979200-1711238399@www.crossparkchurch.org
SUMMARY:Men's Spring Retreat
DESCRIPTION:Beginning with dinner on Friday evening\, we will spend our retreat together in worship\, teaching\, prayer\, and rest. Rev. John Sittema will be our speaker\, leading us through a couple of sessions on the topic of faith and work. We’ll also hear testimonies from fellow Cross Parkers on how they have experienced the challenges and opportunities of being a Christian in a secular workplace. \nThere will be several hours of free time Saturday afternoon for you to explore or nap or hang out with buddies. We’ll then finish up with dinner together on the way home Saturday evening. Then able to worship with the broader church family on Sunday morning. \nThere is an optional add-on day Thursday night (March 21). We have secured 25 beds for Thursday night\, so if you are able to get off work Friday\, come on up Thursday and spend some personal time away. There won’t be any meals or programming until Friday evening\, but this add-on day could be a great opportunity to increase the impact of this retreat for you personally. \nCOST\n-ONE NIGHT: The cost is $110 (a bed with linens & 3 meals).\n-TWO NIGHTS: Thursday add-on is an additional $50 ($160 total if you do both nights).\n-Additional costs: pay for your own dinner Saturday night on the way home and\, if you come Thursday\, provide your own food until dinner Friday. \nSpace is limited. Register by Sunday\, March 17.
URL:https://www.crossparkchurch.org/event/mens-spring-retreat/
LOCATION:Valle Crucis\, 146 Skiles Way\, Banner Elk\, NC\, 28604\, United States
CATEGORIES:Men
ATTACH;FMTTYPE=image/png:https://www.crossparkchurch.org/wp-content/uploads/2024/01/2024-Mens-Retreat-1600-×-900-px.png
ORGANIZER;CN="Grant Beachy":MAILTO:grant@crossparkchurch.org
END:VEVENT
END:VCALENDAR